BEGIN:VCALENDAR
VERSION:2.0
PRODID:-//ChamberMaster//Event Calendar 2.0//EN
METHOD:PUBLISH
X-PUBLISHED-TTL:P3D
REFRESH-INTERVAL:P3D
CALSCALE:GREGORIAN
BEGIN:VEVENT
DTSTART:20190704T130000Z
DTEND:20190704T141500Z
X-MICROSOFT-CDO-ALLDAYEVENT:FALSE
SUMMARY:Yoga Flow Class
DESCRIPTION:Join us Thursday July 4th for a slow flow vinyasa class at 9am. Begin your holiday celebration creating positive energy.
X-ALT-DESC;FMTTYPE=text/html:Join us Thursday July 4th for a slow flow vinyasa class at 9am. Begin your holiday celebration creating positive energy.
LOCATION:
UID:e.2409.20190
SEQUENCE:3
DTSTAMP:20260424T192705Z
URL:https://business.elkrapidschamber.org/events/details/yoga-flow-class-20190
END:VEVENT

END:VCALENDAR
