BEGIN:VCALENDAR
VERSION:2.0
PRODID:-//ChamberMaster//Event Calendar 2.0//EN
METHOD:PUBLISH
X-PUBLISHED-TTL:P3D
REFRESH-INTERVAL:P3D
CALSCALE:GREGORIAN
BEGIN:VEVENT
DTSTART:20190814T220000Z
DTEND:20190814T230000Z
X-MICROSOFT-CDO-ALLDAYEVENT:FALSE
SUMMARY:Yoga at the Pull Barn
DESCRIPTION:Yoga at the Pull Barn\, Wednesdays in July & August at 6pm.\n\n$15 per person - includes a beer!\n\n$10 without beer.\n\n60 minute class\, all skill levels welcome
X-ALT-DESC;FMTTYPE=text/html:Yoga at the Pull Barn\, Wednesdays in July &amp\; August at 6pm.<br />\n$15 per person - includes a beer!<br />\n$10 without beer.<br />\n60 minute class\, all skill levels welcome
LOCATION:Pull Barn in Elk Rapis
UID:e.2409.20207
SEQUENCE:3
DTSTAMP:20260423T120426Z
URL:https://business.elkrapidschamber.org/events/details/yoga-at-the-pull-barn-08-14-2019-20207
END:VEVENT

END:VCALENDAR
