BEGIN:VCALENDAR
VERSION:2.0
PRODID:-//ChamberMaster//Event Calendar 2.0//EN
METHOD:PUBLISH
X-PUBLISHED-TTL:P3D
REFRESH-INTERVAL:P3D
CALSCALE:GREGORIAN
BEGIN:VEVENT
DTSTART:20231112T190000Z
DTEND:20231112T210000Z
X-MICROSOFT-CDO-ALLDAYEVENT:FALSE
SUMMARY:Wreck of the Edmund Fitzgerald
DESCRIPTION:Darin McClellan will discuss the history of the Great Lakes Freighter and examine the theories of how the freighter sank 48 years ago during a storm on November 10\, 1975 in Lake Superior\, followed by a tolling of a memorial bell for each of the 29 crew members lost. Free Event.
X-ALT-DESC;FMTTYPE=text/html:<span style="color: rgb(44\, 54\, 58)\; font-family: Verdana\, Geneva\, sans-serif\; font-size: 13.3333px\;">Darin McClellan will discuss the history of the Great Lakes Freighter and examine the theories of how the freighter sank 48 years ago during a storm on November 10\, 1975 in Lake Superior\, followed by a tolling of a memorial bell for each of the 29 crew members lost. Free Event.</span>
LOCATION:Alden Distrcit Library
UID:e.2409.39384
SEQUENCE:3
DTSTAMP:20260419T193649Z
URL:https://business.elkrapidschamber.org/events/details/wreck-of-the-edmund-fitzgerald-39384
END:VEVENT

END:VCALENDAR
