BEGIN:VCALENDAR
VERSION:2.0
PRODID:-//ChamberMaster//Event Calendar 2.0//EN
METHOD:PUBLISH
X-PUBLISHED-TTL:P3D
REFRESH-INTERVAL:P3D
CALSCALE:GREGORIAN
BEGIN:VEVENT
DTSTART:20220610T140000Z
DTEND:20220610T200000Z
X-MICROSOFT-CDO-ALLDAYEVENT:FALSE
SUMMARY:Wooden Boat Show
DESCRIPTION:
X-ALT-DESC;FMTTYPE=text/html:<div background-color:="" font-size:="" new="" style="font-family: " times="" white-space:=""><b>&nbsp\;</b></div>\n
LOCATION:
UID:e.2409.28247
SEQUENCE:3
DTSTAMP:20260420T202554Z
URL:https://business.elkrapidschamber.org/events/details/wooden-boat-show-28247
END:VEVENT

END:VCALENDAR
