BEGIN:VCALENDAR
VERSION:2.0
PRODID:-//ChamberMaster//Event Calendar 2.0//EN
METHOD:PUBLISH
X-PUBLISHED-TTL:P3D
REFRESH-INTERVAL:P3D
CALSCALE:GREGORIAN
BEGIN:VEVENT
DTSTART:20220611T140000Z
DTEND:20220611T200000Z
X-MICROSOFT-CDO-ALLDAYEVENT:FALSE
SUMMARY:Wooden Boat Show
DESCRIPTION:Saturday\, June 11\, 2021 (Inclement weather reschedule day is June 12\, 2022)\n\n6:30 am to 9:30 am boat staging   Upper Harbor boat launch\n\n10:00 am to 4:00 pm   Boat Show   along the north and south sides of Elk River. Presented by Veuve Clicquot\n\n10:00 am to 6:00 pm   Elk River Landing off Dexter Street\n\nHarbor Day and Various Information Booths\n\nHand Crafted\, Kayaks\, Wooden Boats\, and Ice Boats on display\n\nArtists in Action\n\nBeverage Tent   noon-6:00 pm (*must be 21)\n\nNoon   4:00 pm Music\n\nVendors\n\n1:00 pm   2:00 pm Interlochen Public Radio presents "The Sound Garden Project". A live Saxophone quartet will be circulating the event with pop-up performances to give a classical music "experience" where you least expect it. Sponsored by ART RAPIDS. Musicians are ICA graduates.\n\nPlein Air Artists will be spaced throughout the event to capture the scenes of the day. Sponsored by ART RAPIDS.\n\n3:30 pm   Boat Show Awards announcement   Elk River Landing People's Choice\, Queens Choice\, Youth Choice\, and Veuve Clicquot Choice.\n\n4:30 pm   7:30 pm   boat departure   Upper Harbor boat launch
X-ALT-DESC;FMTTYPE=text/html:<div background-color:="" font-size:="" new="" style="font-family: " times="" white-space:=""><b>&nbsp\;</b>Saturday\, June 11\, 2021 (Inclement weather reschedule day is June 12\, 2022)<br />\n6:30 am to 9:30 am boat staging &ndash\; Upper Harbor boat launch<br />\n10:00 am to 4:00 pm &ndash\; Boat Show &ndash\; along the north and south sides of Elk River. Presented by Veuve Clicquot<br />\n10:00 am to 6:00 pm &ndash\; Elk River Landing off Dexter Street<br />\nHarbor Day and Various Information Booths<br />\nHand Crafted\, Kayaks\, Wooden Boats\, and Ice Boats on display<br />\nArtists in Action<br />\nBeverage Tent &ndash\; noon-6:00 pm (*must be 21)<br />\nNoon &ndash\; 4:00 pm Music<br />\nVendors<br />\n1:00 pm &ndash\; 2:00 pm Interlochen Public Radio presents &ldquo\;The Sound Garden Project&rdquo\;. A live Saxophone quartet will be circulating the event with pop-up performances to give a classical music &ldquo\;experience&rdquo\; where you least expect it. Sponsored by ART RAPIDS. Musicians are ICA graduates.<br />\nPlein Air Artists will be spaced throughout the event to capture the scenes of the day. Sponsored by ART RAPIDS.<br />\n3:30 pm &ndash\; Boat Show Awards announcement &ndash\; Elk River Landing People&rsquo\;s Choice\, Queens Choice\, Youth Choice\, and Veuve Clicquot Choice.<br />\n4:30 pm &ndash\; 7:30 pm &ndash\; boat departure &ndash\; Upper Harbor boat launch</div>\n
LOCATION:
UID:e.2409.28248
SEQUENCE:3
DTSTAMP:20260420T203004Z
URL:https://business.elkrapidschamber.org/events/details/wooden-boat-show-06-11-2022-28248
END:VEVENT

END:VCALENDAR
