BEGIN:VCALENDAR
VERSION:2.0
PRODID:-//ChamberMaster//Event Calendar 2.0//EN
METHOD:PUBLISH
X-PUBLISHED-TTL:P3D
REFRESH-INTERVAL:P3D
CALSCALE:GREGORIAN
BEGIN:VEVENT
DTSTART:20240120T160000Z
DTEND:20240120T220000Z
X-MICROSOFT-CDO-ALLDAYEVENT:FALSE
SUMMARY:Winter Wonderland Clearance Sale in Elk Rapids
DESCRIPTION:Join your favorite stores downtown this Saturday for the Winter Wonderland Clearance Sale! 13 participating stores will have lots of great items on sale to clear the place out for new spring looks! Visit three stores and get entered into a gift basket giveaway! Raffle Tickets at participating stores.
X-ALT-DESC;FMTTYPE=text/html:<span style="color: rgb(5\, 5\, 5)\; font-family: &quot\;Segoe UI Historic&quot\;\, &quot\;Segoe UI&quot\;\, Helvetica\, Arial\, sans-serif\; font-size: 15px\; white-space-collapse: preserve\; background-color: rgb(255\, 255\, 255)\;">Join your favorite stores downtown this Saturday for the Winter Wonderland Clearance Sale! 13 participating stores will have lots of great items on sale to clear the place out for new spring looks! Visit three stores and get entered into a gift basket giveaway! Raffle Tickets at participating stores.</span>
LOCATION:Downtown Elk Rapids
UID:e.2409.41943
SEQUENCE:3
DTSTAMP:20260419T134919Z
URL:https://business.elkrapidschamber.org/events/details/winter-wonderland-clearance-sale-in-elk-rapids-41943
END:VEVENT

END:VCALENDAR
