BEGIN:VCALENDAR
VERSION:2.0
PRODID:-//ChamberMaster//Event Calendar 2.0//EN
METHOD:PUBLISH
X-PUBLISHED-TTL:P3D
REFRESH-INTERVAL:P3D
CALSCALE:GREGORIAN
BEGIN:VEVENT
DTSTART:20240127T180000Z
DTEND:20240127T200000Z
X-MICROSOFT-CDO-ALLDAYEVENT:FALSE
SUMMARY:Winter Pastels Art Class
DESCRIPTION:Winter Pastels\n\nSaturday\, January 27\, 2024 - 1:00pm (2 hrs)\, $10 per person\n\nJoin us as we illustrate the blanket of white that covers Grass River with pastels and other media. Hidden under cover are Snowshoe Hares\, bright red berries\, and evergreen leaves. Perched in the trees are Cardinals and Blue Jays.  Even the cloudiest of skies makes the bright colors seem brighter. All materials supplied. Bring a picture of a winter scene for ideas. Limited space. Please pre-register.
X-ALT-DESC;FMTTYPE=text/html:<b style="font-family: Arial\, sans-serif\; font-size: small\; white-space-collapse: preserve\; background-color: rgb(255\, 255\, 255)\;">Winter Pastels</b><br style="font-family: Arial\, sans-serif\; font-size: small\; white-space-collapse: preserve\; background-color: rgb(255\, 255\, 255)\;" />\n<i style="font-family: Arial\, sans-serif\; font-size: small\; white-space-collapse: preserve\; background-color: rgb(255\, 255\, 255)\;">Saturday<wbr />\, January 27\, 2024 - 1:00pm (2 hrs)\, $10 per person</i><br style="font-family: Arial\, sans-serif\; font-size: small\; white-space-collapse: preserve\; background-color: rgb(255\, 255\, 255)\;" />\n<span style="font-family: Arial\, sans-serif\; font-size: small\; white-space-collapse: preserve\; background-color: rgb(255\, 255\, 255)\;">Join us as we illustrate the blanket of white that covers Grass River with pastels and other media. Hidden under cover are Snowshoe Hares\, bright red berries\, and evergreen leaves. Perched in the trees are Cardinals and Blue Jays. &nbsp\;Even the cloudiest of skies makes the bright colors seem brighter. All materials supplied. Bring a picture of a winter scene for ideas. Limited space. Please pre-register.</span>
LOCATION:Grass River Natural Area 6500 Alden Hwy Bellaire\, MI 49615
UID:e.2409.41927
SEQUENCE:3
DTSTAMP:20260419T121433Z
URL:https://business.elkrapidschamber.org/events/details/winter-pastels-art-class-41927
END:VEVENT

END:VCALENDAR
