BEGIN:VCALENDAR
VERSION:2.0
PRODID:-//ChamberMaster//Event Calendar 2.0//EN
METHOD:PUBLISH
X-PUBLISHED-TTL:P3D
REFRESH-INTERVAL:P3D
CALSCALE:GREGORIAN
BEGIN:VEVENT
DTSTART:20200125T000000Z
DTEND:20200125T013000Z
X-MICROSOFT-CDO-ALLDAYEVENT:FALSE
SUMMARY:Winter Owl Prowl
DESCRIPTION:Join us as we learn about our local owls and their conservation with an indoor presentation\, and then head out for a night hike in search of these amazing birds. \n\nWe recommend snowshoes if the snow is deep. Snowshoes may be rented at the center for an additional $5.  Bring a light. More information at grassriver.org. Grass River Natural Area is located at 6500 Alden Highway\, Bellaire MI.
X-ALT-DESC;FMTTYPE=text/html:<span style="color: rgb(29\, 34\, 40)\; font-family: &quot\;Helvetica Neue&quot\;\, Helvetica\, Arial\, sans-serif\; font-size: 16px\; background-color: rgb(255\, 255\, 255)\;">Join us as we learn about our local owls and their conservation with an indoor presentation\, and then head out for a night hike in search of these amazing birds.&nbsp\;<br />\nWe recommend snowshoes if the snow is deep. Snowshoes may be rented at the center for an additional $5.&nbsp\; Bring a light. More information at grassriver.org. Grass River Natural Area is located at 6500 Alden Highway\, Bellaire MI.</span>
LOCATION:Grass River Natural Area
UID:e.2409.23004
SEQUENCE:3
DTSTAMP:20260423T073907Z
URL:https://business.elkrapidschamber.org/events/details/winter-owl-prowl-23004
END:VEVENT

END:VCALENDAR
