BEGIN:VCALENDAR
VERSION:2.0
PRODID:-//ChamberMaster//Event Calendar 2.0//EN
METHOD:PUBLISH
X-PUBLISHED-TTL:P3D
REFRESH-INTERVAL:P3D
CALSCALE:GREGORIAN
BEGIN:VEVENT
DTSTART:20230226T180000Z
DTEND:20230226T200000Z
X-MICROSOFT-CDO-ALLDAYEVENT:FALSE
SUMMARY:Winter Fungi Walk
DESCRIPTION:Fungus is all around\, even in the winter time! Go on a winter walk in search of the fungi of winter\, like shelf mushrooms on fallen logs\, bark\, and standing trees! Along the way we will likely see a lot of lichens as well. We will collect some for identification and discuss some of their medicinal qualities with long-time mushroom hunter and naturalist\, Franny Bluhm. Snowshoes will be available for rent if there is deep snow.
X-ALT-DESC;FMTTYPE=text/html:<span style="font-family: Arial\, Verdana\, Helvetica\, sans-serif\; font-size: 13px\;">Fungus is all around\, even in the winter time! Go on a winter walk in search of the fungi of winter\, like shelf mushrooms on fallen logs\, bark\, and standing trees! Along the way we will likely see a lot of lichens as well. We will collect some for identification and discuss some of their medicinal qualities with long-time mushroom hunter and naturalist\, Franny Bluhm. Snowshoes will be available for rent if there is deep snow.</span>
LOCATION:Grass River Natural Area 6500 Alden Hwy. Bellaire\, MI 49615
UID:e.2409.36045
SEQUENCE:3
DTSTAMP:20260420T065910Z
URL:https://business.elkrapidschamber.org/events/details/winter-fungi-walk-36045
END:VEVENT

END:VCALENDAR
