BEGIN:VCALENDAR
VERSION:2.0
PRODID:-//ChamberMaster//Event Calendar 2.0//EN
METHOD:PUBLISH
X-PUBLISHED-TTL:P3D
REFRESH-INTERVAL:P3D
CALSCALE:GREGORIAN
BEGIN:VEVENT
DTSTART:20240104T220000Z
DTEND:20240105T000000Z
X-MICROSOFT-CDO-ALLDAYEVENT:FALSE
SUMMARY:Wine Tastings at Cellar 152
DESCRIPTION:
X-ALT-DESC;FMTTYPE=text/html:
LOCATION:152 River Street Elk Rapids
UID:e.2409.41844
SEQUENCE:3
DTSTAMP:20260419T121643Z
URL:https://business.elkrapidschamber.org/events/details/wine-tastings-at-cellar-152-41844
END:VEVENT

END:VCALENDAR
