BEGIN:VCALENDAR
VERSION:2.0
PRODID:-//ChamberMaster//Event Calendar 2.0//EN
METHOD:PUBLISH
X-PUBLISHED-TTL:P3D
REFRESH-INTERVAL:P3D
CALSCALE:GREGORIAN
BEGIN:VEVENT
DTSTART:20191214T170000Z
DTEND:20191214T220000Z
X-MICROSOFT-CDO-ALLDAYEVENT:FALSE
SUMMARY:Wine and Cookies at Royal Farms
DESCRIPTION:You've heard of pairing wine with cheese or with chocolate   but what about pairing wine\, cider or beer with cookies?  Take a break from your Holiday preparations and treat yourself to a fun afternoon of discovering that wine\, beer and cookies do go together. Some Cookie Recipes may be available to take home. Cookie Pairings are complimentary with purchase of a tasting.
X-ALT-DESC;FMTTYPE=text/html:<div style="margin: 0px\; padding: 0px\; border: 0px currentColor\; border-image: none\; text-align: left\; color: rgb(68\, 68\, 68)\; text-transform: none\; text-indent: 0px\; letter-spacing: normal\; font-family: &quot\;Helvetica Neue&quot\;\, Helvetica\, &quot\;Lucida Grande&quot\;\, &quot\;Lucida Sans Unicode&quot\;\, &quot\;Lucida Sans&quot\;\, Arial\, sans-serif\; font-size: 13px\; font-style: normal\; font-weight: 400\; word-spacing: 0px\; vertical-align: baseline\; white-space: normal\; orphans: 2\; widows: 2\; background-color: rgb(249\, 249\, 245)\; font-variant-ligatures: normal\; font-variant-caps: normal\; -webkit-text-stroke-width: 0px\; text-decoration-style: initial\; text-decoration-color: initial\;"><span style="font-family: Helvetica\, Arial\, sans-serif\; font-size: 14px\; font-weight: 700\; background-color: rgb(222\, 215\, 164)\;">You&rsquo\;ve heard of pairing wine with cheese or with chocolate &ndash\; but what about pairing wine\, cider or beer with cookies? &#65279\;Take a break from your Holiday preparations and treat yourself to a fun afternoon of discovering that wine\, beer and cookies do go together. Some Cookie Recipes may be available to take home. Cookie Pairings are complimentary with purchase of a tasting.</span></div>\n
LOCATION:Royal Farms
UID:e.2409.22411
SEQUENCE:3
DTSTAMP:20260419T154452Z
URL:https://business.elkrapidschamber.org/events/details/wine-and-cookies-at-royal-farms-22411
END:VEVENT

END:VCALENDAR
