BEGIN:VCALENDAR
VERSION:2.0
PRODID:-//ChamberMaster//Event Calendar 2.0//EN
METHOD:PUBLISH
X-PUBLISHED-TTL:P3D
REFRESH-INTERVAL:P3D
CALSCALE:GREGORIAN
BEGIN:VEVENT
DTSTART:20190601T163000Z
DTEND:20190601T180000Z
X-MICROSOFT-CDO-ALLDAYEVENT:FALSE
SUMMARY:Windows 10 Photo Editing Class
DESCRIPTION:Learn the basics of how to use Windows Photo Editor to customize and save your photos.  Presented by Tina Fields. Space is limited\,  please sign up.
X-ALT-DESC;FMTTYPE=text/html:Learn the basics of how to use Windows Photo Editor to customize and save your photos.&nbsp\; Presented by Tina Fields. Space is limited\,&nbsp\; please sign up.&nbsp\;<br />\n&nbsp\;
LOCATION:Alden District Library 8751 Helena Rd. Alden\, MI
UID:e.2409.19739
SEQUENCE:3
DTSTAMP:20260424T194538Z
URL:https://business.elkrapidschamber.org/events/details/windows-10-photo-editing-class-19739
END:VEVENT

END:VCALENDAR
