BEGIN:VCALENDAR
VERSION:2.0
PRODID:-//ChamberMaster//Event Calendar 2.0//EN
METHOD:PUBLISH
X-PUBLISHED-TTL:P3D
REFRESH-INTERVAL:P3D
CALSCALE:GREGORIAN
BEGIN:VEVENT
DTSTART:20231111T160000Z
DTEND:20231111T180000Z
X-MICROSOFT-CDO-ALLDAYEVENT:FALSE
SUMMARY:Wild Turkey Trot at Grass River
DESCRIPTION:Wild Turkey Trot 5k\n\nSaturday November 11\, 2023 - Race starts at 11:00am\n\nCelebrate autumn with a wild turkey trot 5k on the trails at Grass River Natural Area. Run or walk the designated course on race day with other participants\, or run your own 5k at your own convenience and submit your time later. To register for the race\, simply purchase the Wild Turkey Trot T-shirt or Sweatshirt on Bonfire (Wild Turkey Trot 5k | Bonfire). The shirt will be mailed directly to you. All ages welcome. All proceeds go to support the educational programming at Grass River. If you want to register for the race\, but do NOT want a t-shirt\, you can just pay the registration fee here.
X-ALT-DESC;FMTTYPE=text/html:<div class="detail-content" style="padding: 1em 0px 0px\; font-family: Arial\, sans-serif\; font-size: 12px\; background-color: rgb(255\, 255\, 255)\;">\n<div class="detail-item" style="padding: 3px 0px\; margin: 0px\;"><span class="event-description" style="display: block\; margin-left: 7em\; white-space-collapse: preserve\; max-height: 190px\; overflow: hidden auto\;"><b>Wild Turkey Trot 5k</b><br />\n<i>Saturday November 11\, 2023 - Race starts at 11:00am</i><br />\nCelebrat<wbr />e autumn with a wild turkey trot 5k on the trails at Grass River Natural Area. Run or walk the designated course on race day with other participants\, or run your own 5k at your own convenience and submit your time later. To register for the race\, simply purchase the Wild Turkey Trot T-shirt or Sweatshirt on Bonfire (<a href="https://www.google.com/url?q=https%3A%2F%2Fwww.bonfire.com%2Fwild-turkey-trot-5k%2F&amp\;sa=D&amp\;ust=1699664460000000&amp\;usg=AOvVaw0qE9WkGeEhBDeXePrsQ3ok" target="_blank"><u>Wild Turkey Trot 5k | Bonfire</u></a>). The shirt will be mailed directly to you. All ages welcome. All proceeds go to support the educational programming at Grass River. If you want to register for the race\, but do NOT want a t-shirt\, you can just pay the registration fee <a href="https://www.google.com/url?q=https%3A%2F%2Fwww.paypal.com%2Fcgi-bin%2Fwebscr%3Fcmd%3D_s-xclick%26hosted_button_id%3DUNMG96VMUANRA&amp\;sa=D&amp\;ust=1699664460000000&amp\;usg=AOvVaw1HUmJhp652NM4a6ZiDOe-4" target="_blank"><u>here</u></a>.</span>\n\n<div>&nbsp\;</div>\n</div>\n</div>\n
LOCATION:Grass River Natural Area 6500 Alden Hwy. Bellaire
UID:e.2409.39683
SEQUENCE:3
DTSTAMP:20260419T175532Z
URL:https://business.elkrapidschamber.org/events/details/wild-turkey-trot-at-grass-river-39683
END:VEVENT

END:VCALENDAR
