BEGIN:VCALENDAR
VERSION:2.0
PRODID:-//ChamberMaster//Event Calendar 2.0//EN
METHOD:PUBLISH
X-PUBLISHED-TTL:P3D
REFRESH-INTERVAL:P3D
CALSCALE:GREGORIAN
BEGIN:VEVENT
DTSTART:20231112T190000Z
DTEND:20231112T210000Z
X-MICROSOFT-CDO-ALLDAYEVENT:FALSE
SUMMARY:Wild Super Heroes Child & Family Program at ERDL
DESCRIPTION:Animals have some incredible senses.  This program looks at the "super powers" of the animals of our local ecosystems and how these powers help them to survive where they live.
X-ALT-DESC;FMTTYPE=text/html:Animals have some incredible senses.&nbsp\; This program looks at the &quot\;super powers&quot\; of the animals of our local ecosystems and how these powers help them to survive where they live.
LOCATION:Elk Rapids District Library
UID:e.2409.39702
SEQUENCE:3
DTSTAMP:20260419T180031Z
URL:https://business.elkrapidschamber.org/events/details/wild-super-heroes-child-family-program-at-erdl-39702
END:VEVENT

END:VCALENDAR
