BEGIN:VCALENDAR
VERSION:2.0
PRODID:-//ChamberMaster//Event Calendar 2.0//EN
METHOD:PUBLISH
X-PUBLISHED-TTL:P3D
REFRESH-INTERVAL:P3D
CALSCALE:GREGORIAN
BEGIN:VEVENT
DTSTART:20231104T230000Z
DTEND:20231105T010000Z
X-MICROSOFT-CDO-ALLDAYEVENT:FALSE
SUMMARY:White Christmas Musical at HERTH
DESCRIPTION:The Elk Rapids Players Present\, Irving Berlin's "White Christmas" the Musical\n\nNovember 3\,4\,5 and 10\, 11\, & 12\n\nFriday & Saturday 7:00\, Sunday 2:00 pm
X-ALT-DESC;FMTTYPE=text/html:The Elk Rapids Players Present\, Irving Berlin&#39\;s &quot\;White Christmas&quot\; the Musical<br />\nNovember 3\,4\,5 and 10\, 11\, &amp\; 12<br />\nFriday &amp\; Saturday 7:00\, Sunday 2:00 pm
LOCATION:401 River Street Elk Rapids
UID:e.2409.39442
SEQUENCE:3
DTSTAMP:20260419T180034Z
URL:https://business.elkrapidschamber.org/events/details/white-christmas-musical-at-herth-11-04-2023-39442
END:VEVENT

END:VCALENDAR
