BEGIN:VCALENDAR
VERSION:2.0
PRODID:-//ChamberMaster//Event Calendar 2.0//EN
METHOD:PUBLISH
X-PUBLISHED-TTL:P3D
REFRESH-INTERVAL:P3D
CALSCALE:GREGORIAN
BEGIN:VEVENT
DTSTART:20190817T140000Z
DTEND:20190817T160000Z
X-MICROSOFT-CDO-ALLDAYEVENT:FALSE
SUMMARY:Whistle Up the Bay
DESCRIPTION:Learn Antrim Creek history on a hike using the story from the book Whistle Up the Bay as the starting point. The book\, illustrated by local artist\, Betty Beebe\, is about the Guyer family and the boys who lived near Antrim Creek. Meet at ACNA's south entrance on Old Dixie Hwy near Atwood\, MI. More information at www.grassriver.org.
X-ALT-DESC;FMTTYPE=text/html:<span style="color: rgb(29\, 34\, 40)\; font-family: &quot\;Helvetica Neue&quot\;\, Helvetica\, Arial\, sans-serif\; font-size: 13px\; background-color: rgb(255\, 255\, 255)\;">Learn Antrim Creek history on a hike using the story from the book&nbsp\;</span><em style="color: rgb(29\, 34\, 40)\; font-family: &quot\;Helvetica Neue&quot\;\, Helvetica\, Arial\, sans-serif\; font-size: 13px\; background-color: rgb(255\, 255\, 255)\;">Whistle Up the Bay</em><span style="color: rgb(29\, 34\, 40)\; font-family: &quot\;Helvetica Neue&quot\;\, Helvetica\, Arial\, sans-serif\; font-size: 13px\; background-color: rgb(255\, 255\, 255)\;">&nbsp\;as the starting point. The book\, illustrated by local artist\, Betty Beebe\, is about the Guyer family and the boys who lived near Antrim Creek. Meet at ACNA&#39\;s south entrance on Old Dixie Hwy near Atwood\, MI. More information at&nbsp\;</span><a href="http://www.grassriver.org/" rel="nofollow" style="color: rgb(25\, 106\, 212)\; font-family: &quot\;Helvetica Neue&quot\;\, Helvetica\, Arial\, sans-serif\; font-size: 13px\; background-color: rgb(255\, 255\, 255)\;" target="_blank">www.grassriver.org</a><span style="color: rgb(29\, 34\, 40)\; font-family: &quot\;Helvetica Neue&quot\;\, Helvetica\, Arial\, sans-serif\; font-size: 13px\; background-color: rgb(255\, 255\, 255)\;">.</span>
LOCATION:Antrim Creek Natural Area Old Dixie Hwy Atwood\, MI
UID:e.2409.20655
SEQUENCE:3
DTSTAMP:20260423T100551Z
URL:https://business.elkrapidschamber.org/events/details/whistle-up-the-bay-20655
END:VEVENT

END:VCALENDAR
