BEGIN:VCALENDAR
VERSION:2.0
PRODID:-//ChamberMaster//Event Calendar 2.0//EN
METHOD:PUBLISH
X-PUBLISHED-TTL:P3D
REFRESH-INTERVAL:P3D
CALSCALE:GREGORIAN
BEGIN:VEVENT
DTSTART:20240114T180000Z
DTEND:20240114T210000Z
X-MICROSOFT-CDO-ALLDAYEVENT:FALSE
SUMMARY:Whiskey Blending at The DAM Shop
DESCRIPTION:Join us for an exciting evening of CUSTOM BLENDING a bottle of whiskey with Mammoth Distilling.\n\n$125 Per Ticket (Advanced Purchase Required)\n\n40 Seats Available (Reservation Required)\n\nIncludes: Blending experience\, 3 course dinner & of course your custom blended bottle of Infinity Whiskey to take home.\n\nPlease call us to reserve your seat. 231-498-5855\n\nMenu:\n\nSpinach & Artichoke Dip\n\n8oz Sirloin\, Red Wine Pan Sauce\, Roasted Asparagus & Red Skin Mashed Potatoes\n\nChocolate Mousse
X-ALT-DESC;FMTTYPE=text/html:<div class="xdj266r x11i5rnm xat24cr x1mh8g0r x1vvkbs" style="margin: 0px\; overflow-wrap: break-word\; font-family: &quot\;Segoe UI Historic&quot\;\, &quot\;Segoe UI&quot\;\, Helvetica\, Arial\, sans-serif\; color: rgb(5\, 5\, 5)\; font-size: 15px\; background-color: rgb(255\, 255\, 255)\;">Join us for an exciting evening of CUSTOM BLENDING a bottle of whiskey with Mammoth Distilling.<br />\n$125 Per Ticket (Advanced Purchase Required)<br />\n40 Seats Available (Reservation Required)<br />\nIncludes: Blending experience\, 3 course dinner &amp\; of course your custom blended bottle of Infinity Whiskey to take home.</div>\n\n<div class="x11i5rnm xat24cr x1mh8g0r x1vvkbs xtlvy1s" style="margin: 0.5em 0px 0px\; overflow-wrap: break-word\; font-family: &quot\;Segoe UI Historic&quot\;\, &quot\;Segoe UI&quot\;\, Helvetica\, Arial\, sans-serif\; color: rgb(5\, 5\, 5)\; font-size: 15px\; background-color: rgb(255\, 255\, 255)\;">Please call us to reserve your seat. 231-498-5855</div>\n\n<div class="x11i5rnm xat24cr x1mh8g0r x1vvkbs xtlvy1s" style="margin: 0.5em 0px 0px\; overflow-wrap: break-word\; font-family: &quot\;Segoe UI Historic&quot\;\, &quot\;Segoe UI&quot\;\, Helvetica\, Arial\, sans-serif\; color: rgb(5\, 5\, 5)\; font-size: 15px\; background-color: rgb(255\, 255\, 255)\;">Menu:<br />\nSpinach &amp\; Artichoke Dip<br />\n8oz Sirloin\, Red Wine Pan Sauce\, Roasted Asparagus &amp\; Red Skin Mashed Potatoes<br />\nChocolate Mousse</div>\n
LOCATION:118 Bridge St. Elk Rapids MI 49629
UID:e.2409.40343
SEQUENCE:3
DTSTAMP:20260419T121845Z
URL:https://business.elkrapidschamber.org/events/details/whiskey-blending-at-the-dam-shop-40343
END:VEVENT

END:VCALENDAR
