BEGIN:VCALENDAR
VERSION:2.0
PRODID:-//ChamberMaster//Event Calendar 2.0//EN
METHOD:PUBLISH
X-PUBLISHED-TTL:P3D
REFRESH-INTERVAL:P3D
CALSCALE:GREGORIAN
BEGIN:VEVENT
DTSTART:20190916T180000Z
DTEND:20190916T190000Z
X-MICROSOFT-CDO-ALLDAYEVENT:FALSE
SUMMARY:Webinar: Pipeline Permitting in Michigan
DESCRIPTION:Pipeline Permitting in Michigan: How To Effectively Participate in the Decision-making Process\n\n \n\nMon\, Sep 16\, 2019 2:00 PM - 3:00 PM EDT\n\n \n\nIf a new pipeline was proposed in your community\, would you know what to do to help prevent risks to water resources and public health and safety? Join the Watershed Council on September 16 from 2:00   3:00 PM for a webinar to learn how to navigate pipeline permitting in Michigan. Presenters from the Michigan Public Service Commission and Department of Environment\, Great Lakes\, and Energy will provide information on the laws governing pipelines\, as well as how to effectively participate in the decision-making processes. Please feel free to share with anyone you think would be interested.\n\n \n\nRegister today at https://register.gotowebinar.com/register/9105302481243229453
X-ALT-DESC;FMTTYPE=text/html:<div style="color: rgb(54\, 73\, 95)\; font-family: Tahoma\, Geneva\, sans-serif\; font-size: 16px\; background-color: rgb(255\, 255\, 255)\;"><span style="font-size: 14px\; color: rgb(17\, 17\, 17)\; font-weight: bold\;">Pipeline Permitting in Michigan: How To Effectively Participate in the Decision-making Process</span></div>\n\n<div style="color: rgb(54\, 73\, 95)\; font-family: Tahoma\, Geneva\, sans-serif\; font-size: 16px\; background-color: rgb(255\, 255\, 255)\;">&nbsp\;</div>\n\n<div style="color: rgb(54\, 73\, 95)\; font-family: Tahoma\, Geneva\, sans-serif\; font-size: 16px\; background-color: rgb(255\, 255\, 255)\;"><span style="font-size: 14px\; color: rgb(51\, 51\, 51)\;">Mon\, Sep 16\, 2019 2:00 PM - 3:00 PM EDT</span></div>\n\n<div style="color: rgb(54\, 73\, 95)\; font-family: Tahoma\, Geneva\, sans-serif\; font-size: 16px\; background-color: rgb(255\, 255\, 255)\;">&nbsp\;</div>\n\n<div style="color: rgb(54\, 73\, 95)\; font-family: Tahoma\, Geneva\, sans-serif\; font-size: 16px\; background-color: rgb(255\, 255\, 255)\;"><span style="font-size: 14px\;">If a new pipeline was proposed in your community\, would you know what to do to help prevent risks to water resources and public health and safety? Join the Watershed Council on September 16 from 2:00 &ndash\; 3:00 PM for a webinar to learn how to navigate pipeline permitting in Michigan. Presenters from the Michigan Public Service Commission and Department of Environment\, Great Lakes\, and Energy will provide information on the laws governing pipelines\, as well as how to effectively participate in the decision-making processes. Please feel free to share with anyone you think would be interested.</span></div>\n\n<div style="color: rgb(54\, 73\, 95)\; font-family: Tahoma\, Geneva\, sans-serif\; font-size: 16px\; background-color: rgb(255\, 255\, 255)\;">&nbsp\;</div>\n\n<div style="color: rgb(54\, 73\, 95)\; font-family: Tahoma\, Geneva\, sans-serif\; font-size: 16px\; background-color: rgb(255\, 255\, 255)\;"><span style="font-size: 14px\;">Register today at&nbsp\;</span><a href="http://r20.rs6.net/tn.jsp?f=0017zIsPTVFs0zoPBA-1i75kGSKaD65RSL9PPYHxQfLf2Y3WkTgSeBb6_mm9xUaFi35JuCEjoatwhDj6Isd3At2jq8Q7YRPnYbUPqVyDC2NR1vkGzFs4ks8zHTnQs7JjpUWbzvN9txlHA1MYQUtG-P6f6BTXAUpCa0JV--IUPmq_TA5s1EMK3V5vM4r2LnjS4YnGYHZWypz5ws=&amp\;c=VR9mRCpe7aUU9WA30tjoAtC37XyV3HMmaFn3XsQMY_xJwFs_BuiKKA==&amp\;ch=rh8NMgPizvca24EZn7MP60C1c6UVXLc_cBVlmIwqgyF2jej23SDvqA==" rel="nofollow" style="color: rgb(0\, 167\, 233)\; font-size: 14px\;" target="_blank">https://register.gotowebinar.com/register/9105302481243229453</a></div>\n
LOCATION:
UID:e.2409.21811
SEQUENCE:3
DTSTAMP:20260423T091749Z
URL:https://business.elkrapidschamber.org/events/details/webinar-pipeline-permitting-in-michigan-21811
END:VEVENT

END:VCALENDAR
