BEGIN:VCALENDAR
VERSION:2.0
PRODID:-//ChamberMaster//Event Calendar 2.0//EN
METHOD:PUBLISH
X-PUBLISHED-TTL:P3D
REFRESH-INTERVAL:P3D
CALSCALE:GREGORIAN
BEGIN:VEVENT
DTSTART:20191215T180000Z
DTEND:20191215T210000Z
X-MICROSOFT-CDO-ALLDAYEVENT:FALSE
SUMMARY:WCCW Football Frenzy
DESCRIPTION:Food & Drink Specials with WCCW
X-ALT-DESC;FMTTYPE=text/html:Food &amp\; Drink Specials with WCCW
LOCATION:Amvets 410 Bridge St. Elk Rapids\, MI 49629
UID:e.2409.22431
SEQUENCE:3
DTSTAMP:20260419T142937Z
URL:https://business.elkrapidschamber.org/events/details/wccw-football-frenzy-22431
END:VEVENT

END:VCALENDAR
