BEGIN:VCALENDAR
VERSION:2.0
PRODID:-//ChamberMaster//Event Calendar 2.0//EN
METHOD:PUBLISH
X-PUBLISHED-TTL:P3D
REFRESH-INTERVAL:P3D
CALSCALE:GREGORIAN
BEGIN:VEVENT
DTSTART:20191213T153000Z
DTEND:20191213T163000Z
X-MICROSOFT-CDO-ALLDAYEVENT:FALSE
SUMMARY:Way to Grow Messy Time in the Science Room
DESCRIPTION:
X-ALT-DESC;FMTTYPE=text/html:
LOCATION:Mill Creek Elementary Science Room
UID:e.2409.22389
SEQUENCE:3
DTSTAMP:20260419T153810Z
URL:https://business.elkrapidschamber.org/events/details/way-to-grow-messy-time-in-the-science-room-22389
END:VEVENT

END:VCALENDAR
