BEGIN:VCALENDAR
VERSION:2.0
PRODID:-//ChamberMaster//Event Calendar 2.0//EN
METHOD:PUBLISH
X-PUBLISHED-TTL:P3D
REFRESH-INTERVAL:P3D
CALSCALE:GREGORIAN
BEGIN:VEVENT
DTSTART:20210113T170000Z
DTEND:20210113T180000Z
X-MICROSOFT-CDO-ALLDAYEVENT:FALSE
SUMMARY:Watersheds 101 -- How do we protect the waters that we love?
DESCRIPTION:Water is an integral part of our lives\, but how often do we slow down and really think about the water that surrounds us? At the Watersheds 101 presentation\, Water Resources Education Coordinator Eli Baker will discuss watersheds and what happens to water as it moves all around us.  He will also talk about how we can keep track of the health of our water bodies and what we can do to protect them.
X-ALT-DESC;FMTTYPE=text/html:Water is an integral part of our lives\, but how often do we slow down and really think about the water that surrounds us? At the Watersheds 101 presentation\, Water Resources Education Coordinator Eli Baker will discuss watersheds and what happens to water as it moves all around us.&nbsp\; He will also talk about how we can keep track of the health of our water bodies and what we can do to protect them.
LOCATION:Hosted on line. Register at: www.watershedcouncil.org/attend-an-event
UID:e.2409.24420
SEQUENCE:3
DTSTAMP:20260421T205819Z
URL:https://business.elkrapidschamber.org/events/details/watersheds-101-how-do-we-protect-the-waters-that-we-love-24420
END:VEVENT

END:VCALENDAR
