BEGIN:VCALENDAR
VERSION:2.0
PRODID:-//ChamberMaster//Event Calendar 2.0//EN
METHOD:PUBLISH
X-PUBLISHED-TTL:P3D
REFRESH-INTERVAL:P3D
CALSCALE:GREGORIAN
BEGIN:VEVENT
DTSTART:20231210T180000Z
DTEND:20231210T220000Z
X-MICROSOFT-CDO-ALLDAYEVENT:FALSE
SUMMARY:WaterFire Featured Artist Series-Jewelry Designer Laura Schichtel
DESCRIPTION:Join us for a jewelry shopping experience with Laura Schichtel\, a local metalsmith and jewelry designer!  Laura will be with us in the WaterFire tasting room on Sunday\, December 10th\, from 1-5 PM.  Grab a glass of wine and come check out her work.  She may have that unique gift you're looking for this holiday season!\n\nAbout Laura:\n\nLaura collects raw rocks\, polishes them\, and creates the settings. Her bespoke\, intentional woodland-style jewelry uses a mixture of metals\, including 14k gold\, Argentium sterling silver\, copper\, brass\, bronze\, and even Christmas tins.  To create the desired look\, she cuts\, saws\, embosses\, and hammers parts\, then combines them with a torch (soldering) and/or cold connections like rivets.  She has done art fairs for over the states for 30 years and has exhibited her work in MI\, OH\, WI\, VA\, FL\, OR\, and NY.  She has sold internationally as well.  Laura has a collection of ribbons and awards to go along with her years of work and experience.\n\n\n\nBS Art-EMU\n\nBS Music-EMU\n\nMFA Metals -UW Madison
X-ALT-DESC;FMTTYPE=text/html:<div>\n<div>\n<p>Join us for a jewelry shopping experience with Laura Schichtel\, a local metalsmith and jewelry designer! &nbsp\;Laura will be with us in the WaterFire tasting room on Sunday\, December 10th\, from 1-5 PM. &nbsp\;Grab a glass of wine and come check out her work. &nbsp\;She may have that unique gift you&rsquo\;re looking for this holiday season!</p>\n\n<p>About Laura:<br />\nLaura collects raw rocks\, polishes them\, and creates the settings. Her bespoke\, intentional woodland-style jewelry uses a mixture of metals\, including 14k gold\, Argentium sterling silver\, copper\, brass\, bronze\, and even Christmas tins. &nbsp\;To create the desired look\, she cuts\, saws\, embosses\, and hammers parts\, then combines them with a torch (soldering) and/or cold connections like rivets. &nbsp\;She has done art fairs for over the states for 30 years and has exhibited her work in MI\, OH\, WI\, VA\, FL\, OR\, and NY. &nbsp\;She has sold internationally as well. &nbsp\;Laura has a collection of ribbons and awards to go along with her years of work and experience.<br />\n<br />\nBS Art-EMU<br />\nBS Music-EMU<br />\nMFA Metals -UW Madison</p>\n</div>\n</div>\n
LOCATION:WaterFire Vineyards 12180 Sutter Rd Kewadin\, MI 49648
UID:e.2409.39680
SEQUENCE:3
DTSTAMP:20260419T180325Z
URL:https://business.elkrapidschamber.org/events/details/waterfire-featured-artist-series-jewelry-designer-laura-schichtel-39680
END:VEVENT

END:VCALENDAR
