BEGIN:VCALENDAR
VERSION:2.0
PRODID:-//ChamberMaster//Event Calendar 2.0//EN
METHOD:PUBLISH
X-PUBLISHED-TTL:P3D
REFRESH-INTERVAL:P3D
CALSCALE:GREGORIAN
BEGIN:VEVENT
DTSTART:20231217T180000Z
DTEND:20231217T220000Z
X-MICROSOFT-CDO-ALLDAYEVENT:FALSE
SUMMARY:WaterFire Featured Artist-Musician James Dake
DESCRIPTION:James Dake\, Elk Rapids local\, will play live at WaterFire Vineyards on Sunday\, December 17th\, from 1-5 PM.  Joining him is Jenn from Terra Lilly Designs with Stained Glass Earrings.  Enjoy a glass of wine and relax with live acoustic music by James while browsing Jenn's work!\n\nAbout James:\n\nJames is a member of the band Headwaters and has played in several establishments locally\, including WaterFire Vineyard.  He brings his acoustic sounds with a mix of folk\, rock\, and blues. \n\nAbout Jenn:\n\nI am a glass artist from Michigan who creates pieces that reflect my love of the natural world.  Each pair of earrings is handmade in a studio that belonged to my late mother-in-law.  I am honored to carry on this art through my earrings and will soon expand my work to include larger stained-glass designs.
X-ALT-DESC;FMTTYPE=text/html:<div>\n<div>\n<p>James Dake\, Elk Rapids local\, will play live at WaterFire Vineyards on Sunday\, December 17th\, from 1-5 PM. &nbsp\;Joining him is Jenn from Terra Lilly Designs with Stained Glass Earrings. &nbsp\;Enjoy a glass of wine and relax with live acoustic music by James while browsing Jenn&#39\;s work!</p>\n\n<p>About James:<br />\nJames is a member of the band Headwaters and has played in several establishments locally\, including WaterFire Vineyard. &nbsp\;He brings his acoustic sounds with a mix of folk\, rock\, and blues.&nbsp\;</p>\n\n<p>About Jenn:<br />\nI am a glass artist from Michigan who creates pieces that reflect my love of the natural world. &nbsp\;Each pair of earrings is handmade in a studio that belonged to my late mother-in-law. &nbsp\;I am honored to carry on this art through my earrings and will soon expand my work to include larger stained-glass designs.</p>\n</div>\n</div>\n
LOCATION:WaterFire Vineyards 12180 Sutter Rd Kewadin\, MI 49648
UID:e.2409.39381
SEQUENCE:3
DTSTAMP:20260419T180204Z
URL:https://business.elkrapidschamber.org/events/details/waterfire-featured-artist-musician-james-dake-39381
END:VEVENT

END:VCALENDAR
