BEGIN:VCALENDAR
VERSION:2.0
PRODID:-//ChamberMaster//Event Calendar 2.0//EN
METHOD:PUBLISH
X-PUBLISHED-TTL:P3D
REFRESH-INTERVAL:P3D
CALSCALE:GREGORIAN
BEGIN:VEVENT
DTSTART:20230809T140000Z
DTEND:20230809T210000Z
X-MICROSOFT-CDO-ALLDAYEVENT:FALSE
SUMMARY:Watercolor Workshops with Charles Murphy
DESCRIPTION:CHARLES MURPHY\n\nWatercolor Workshops\n\nWednesday\, August 9 and/or Wednesday\, August 16\n\n\n\nOffering an all day intensive to explore multiple watercolor techniques\, this class welcomes students of all levels. Take one or both but learn different techniques from either day. \n\n$150/student/workshop\n\n10am to 5pm\nhttps://twistedfishgallery.com/event/watercolor-workshop-with-charles-murphy/
X-ALT-DESC;FMTTYPE=text/html:<span background-color:="" color:="" font-size:="" helvetica="" merriweather="" style="box-sizing: border-box\; font-family: " text-align:=""><span style="box-sizing: border-box\; font-size: 18px\;"><span style="box-sizing: border-box\; font-weight: bolder\;">CHARLES MURPHY<br style="box-sizing: border-box\;" />\nWatercolor Workshops<br style="box-sizing: border-box\;" />\nWednesday\, August 9 and/or Wednesday\, August 16</span></span><br style="box-sizing: border-box\;" />\n<br style="box-sizing: border-box\;" />\n<span style="box-sizing: border-box\; font-size: 18px\;">Offering an all day intensive to explore multiple watercolor techniques\, this class welcomes students of all levels. Take one or both but learn different techniques from either day.&nbsp\;<br style="box-sizing: border-box\;" />\n<span style="box-sizing: border-box\; font-weight: bolder\;">$150/student/workshop<br style="box-sizing: border-box\;" />\n10am to 5pm</span></span></span>\n<p style="margin: 0px\; padding: 0px\; font-family: Arial\, Verdana\, Helvetica\, sans-serif\; white-space-collapse: preserve\; background-color: rgb(252\, 250\, 213)\; text-align: center\;"><a href="https://twistedfishgallery.us18.list-manage.com/track/click?u=d21a800576e10e83d387fe583&amp\;id=06b9b8ce23&amp\;e=786426a0ee" style="color: rgb(40\, 79\, 161)\; font-size: 14px\;" target="_blank">https://twistedfishgallery.com/event/watercolor-workshop-with-charles-murphy/</a></p>\n<font color="#0000cd">&nbsp\;</font>
LOCATION:10443 S. Bayshore Drive Elk Rapids 49629
UID:e.2409.38796
SEQUENCE:3
DTSTAMP:20260419T233620Z
URL:https://business.elkrapidschamber.org/events/details/watercolor-workshops-with-charles-murphy-38796
END:VEVENT

END:VCALENDAR
