BEGIN:VCALENDAR
VERSION:2.0
PRODID:-//ChamberMaster//Event Calendar 2.0//EN
METHOD:PUBLISH
X-PUBLISHED-TTL:P3D
REFRESH-INTERVAL:P3D
CALSCALE:GREGORIAN
BEGIN:VEVENT
DTSTART:20190627T140000Z
DTEND:20190628T190000Z
X-MICROSOFT-CDO-ALLDAYEVENT:FALSE
SUMMARY:Watercolor Workshop
DESCRIPTION:For artists of all levels\, Luke Buck\, watercolor artist\, returns to Raven Hill for the 11th year. Workshop cost includes lunch both days.
X-ALT-DESC;FMTTYPE=text/html:For artists of all levels\, Luke Buck\, watercolor artist\, returns to Raven Hill for the 11th year. Workshop cost includes lunch both days.
LOCATION:Raven Hill Discovery Center 4737 Fuller Road East Jordan\, MI 49727
UID:e.2409.19290
SEQUENCE:3
DTSTAMP:20260424T220111Z
URL:https://business.elkrapidschamber.org/events/details/watercolor-workshop-19290
END:VEVENT

END:VCALENDAR
