BEGIN:VCALENDAR
VERSION:2.0
PRODID:-//ChamberMaster//Event Calendar 2.0//EN
METHOD:PUBLISH
X-PUBLISHED-TTL:P3D
REFRESH-INTERVAL:P3D
CALSCALE:GREGORIAN
BEGIN:VEVENT
DTSTART:20190918T120000Z
DTEND:20190919T004500Z
X-MICROSOFT-CDO-ALLDAYEVENT:FALSE
SUMMARY:Walk with a DOC
DESCRIPTION:"Walk with a Doc is a walking programforeveryone interested in taking steps for a healthier lifestyle.  You don't need any special gear and there are no special rules.  Just put on a pair of comfortable shoes and walk alone\, with friends\, a partner\, a famil\, or with a group."\n\nMeet at the Library Bridge @ River Street
X-ALT-DESC;FMTTYPE=text/html:&quot\;Walk with a Doc is a walking programforeveryone interested in taking steps for a healthier lifestyle.&nbsp\; You don&#39\;t need any special gear and there are no special rules.&nbsp\; Just put on a pair of comfortable shoes and walk alone\, with friends\, a partner\, a famil\, or with a group.&quot\;<br />\nMeet at the Library Bridge @ River Street<br />\n&nbsp\;
LOCATION:
UID:e.2409.19706
SEQUENCE:3
DTSTAMP:20260423T091825Z
URL:https://business.elkrapidschamber.org/events/details/walk-with-a-doc-09-18-2019-19706
END:VEVENT

END:VCALENDAR
