BEGIN:VCALENDAR
VERSION:2.0
PRODID:-//ChamberMaster//Event Calendar 2.0//EN
METHOD:PUBLISH
X-PUBLISHED-TTL:P3D
REFRESH-INTERVAL:P3D
CALSCALE:GREGORIAN
BEGIN:VEVENT
DTSTART:20220921T210000Z
DTEND:20220921T233000Z
X-MICROSOFT-CDO-ALLDAYEVENT:FALSE
SUMMARY:Volunteer Stream Monitoring Fall Session
DESCRIPTION:Volunteer Stream Monitoring Fall Session\n\n\n\nWednesday\, September 21\, 2022\n\n\n\n5:00pm-7:30pm\n\n\n\nSign up!\n\n\n\nAlden\, MI: Exact Location TBD\n\nParticipants will spend approximately one hour learning about the importance of stream monitoring. A hands-on training session will follow at 6pm on Spencer Creek. Please dress for the weather. Refreshments provided.
X-ALT-DESC;FMTTYPE=text/html:Volunteer Stream Monitoring Fall Session<br />\n<br />\nWednesday\, September 21\, 2022<br />\n<br />\n5:00pm-7:30pm<br />\n<br />\nSign up!<br />\n<br />\nAlden\, MI: Exact Location TBD<br />\nParticipants will spend approximately one hour learning about the importance of stream monitoring. A hands-on training session will follow at 6pm on Spencer Creek. Please dress for the weather. Refreshments provided.
LOCATION:
UID:e.2409.30301
SEQUENCE:3
DTSTAMP:20260420T154658Z
URL:https://business.elkrapidschamber.org/events/details/volunteer-stream-monitoring-fall-session-30301
END:VEVENT

END:VCALENDAR
