BEGIN:VCALENDAR
VERSION:2.0
PRODID:-//ChamberMaster//Event Calendar 2.0//EN
METHOD:PUBLISH
X-PUBLISHED-TTL:P3D
REFRESH-INTERVAL:P3D
CALSCALE:GREGORIAN
BEGIN:VEVENT
DTSTART:20191201T170000Z
DTEND:20191201T190000Z
X-MICROSOFT-CDO-ALLDAYEVENT:FALSE
SUMMARY:Visit Santa @ Dre Photography
DESCRIPTION:Visit Santa!\n\nBring a non-perishable food donation for the Food Pantry and receive a complimentary photo with Santa!
X-ALT-DESC;FMTTYPE=text/html:Visit Santa!<br />\nBring a non-perishable food donation for the Food Pantry and receive a complimentary photo with Santa!
LOCATION:DRE Photography 115 Ames St.\, Elk Rapids\,
UID:e.2409.22269
SEQUENCE:3
DTSTAMP:20260419T153447Z
URL:https://business.elkrapidschamber.org/events/details/visit-santa-dre-photography-22269
END:VEVENT

END:VCALENDAR
