BEGIN:VCALENDAR
VERSION:2.0
PRODID:-//ChamberMaster//Event Calendar 2.0//EN
METHOD:PUBLISH
X-PUBLISHED-TTL:P3D
REFRESH-INTERVAL:P3D
CALSCALE:GREGORIAN
BEGIN:VEVENT
DTSTART:20220528T110000Z
DTEND:20220528T210000Z
X-MICROSOFT-CDO-ALLDAYEVENT:FALSE
SUMMARY:Village of Elk Rapids Spring Clean-up Day
DESCRIPTION:SPRING CURB-SIDE CLEAN-UP: SATURDAY MAY 28\, 2022\n\n\nTHE VILLAGE OF ELK RAPIDS IS SCHEDULED TO HAVE THE SPRING CLEAN-UP DAY ON SATURDAY MAY 28\, 2022. PLEASE PUT ITEMS OUT THE NIGHT BEFORE AS GREEN FOR LIFE INC. (FORMERLY AMERICAN WASTE) WILL BE OUT STARTING AT 7 A.M. TO COLLECT.\n\nHERE IS SOME INFORMATION FOR YOU TO KNOW:\n\n\n	\n	THIS SERVICE IS FOR VILLAGE RESIDENTS ONLY.\n	\n	\n	THIS IS A RESIDENTIAL SERVICE ONLY. EXCLUDED FROM PICK-UP ARE PRIVATE STREETS\, CONDOMINIUMS\, MOBILE HOME PARKS\, AND COMMERCIAL ENTERPRISES.\n	\n	\n	ALL MATERIALS MUST BE STACKED NEATLY AND PLACED BEHIND THE CURB LINE NO LATER THAN 7:00 A.M. ON MAY 28.\n	\n	\n	NO ALLEY PICK-UP.\n	\n	\n	PLEASE DO NOT PLACE MATERIALS OUT EARLIER THAN MAY 26.\n	\n	\n	NO HOUSEHOLD GARBAGE SHALL BE PLACED WITH SPRING CLEAN-UP REFUSE.\n	\n	\n	BUILDING MATERIALS MUST BE NEATLY STACKED.\n	\n	\n	WHITE GOODS WILL BE ACCEPTED. REFRIGERATION MUST HAVE CERTIFICATION ATTACHED VERIFYING REMOVAL OF REFRIGERANT BY A LICENSED VENDOR.\n	\n	\n	REFRIGERATOR AND FREEZER DOORS MUST BE REMOVED.\n	\n	\n	NOTHING HEAVIER THAN WHAT 2 INDIVIDUALS CAN PICKUP\, I.E.\, PIANO.\n	\n\n\nEXCLUDED FROM CURB SIDE PICK UP: BATTERIES\, PAINT CANS\, ROCKS\, ASPHALT\, CONCRETE\, BRUSH\, YARD WASTE\, AND ALL HAZARDOUS WASTE SUCH AS CHEMICALS\, HERBICIDES\, AND INSECTICIDES. THESE MATERIALS WILL NOT BE PICKED UP AND IT WILL BE THE OWNER'S RESPONSIBILITY TO REMOVE THEM FROM THE STREET RIGHT OF WAY.
X-ALT-DESC;FMTTYPE=text/html:<h2 background-color:="" color:="" letter-spacing:="" sans="" source="" style="box-sizing: border-box\; margin: 0px 0px 20px\; line-height: 1.5\; font-size: 40px\; overflow-wrap: break-word\; padding: 0px\; border: 0px\; outline: 0px\; font-variant-numeric: inherit\; font-variant-east-asian: inherit\; font-stretch: inherit\; vertical-align: baseline\; font-family: " text-transform:=""><span style="box-sizing: border-box\; margin: 0px\; padding: 0px\; border: 0px\; outline: 0px\; font-variant: inherit\; font-stretch: inherit\; line-height: inherit\; vertical-align: baseline\; font-family: inherit\; font-style: inherit\; font-weight: inherit\; color: rgb(246\, 213\, 92)\;">SPRING CURB-SIDE CLEAN-UP: </span><span style="font-size:14px\;"><span style="color:#000000\;"><span style="box-sizing: border-box\; margin: 0px\; padding: 0px\; border: 0px\; outline: 0px\; font-variant: inherit\; font-stretch: inherit\; line-height: inherit\; vertical-align: baseline\; font-family: inherit\; font-style: inherit\; font-weight: inherit\;">SATURDAY MAY 28\, 2022</span></span></span></h2>\n\n<div background-color:="" class="entry-content clr" color:="" font-size:="" letter-spacing:="" sans="" source="" style="box-sizing: border-box\; margin: 0px\; padding: 0px\; border: 0px\; outline: 0px\; font-variant-numeric: inherit\; font-variant-east-asian: inherit\; font-stretch: inherit\; line-height: inherit\; vertical-align: baseline\; font-family: ">\n<h4 style="box-sizing: border-box\; margin: 0px 0px 20px\; line-height: 1.5\; font-size: 20px\; overflow-wrap: break-word\; padding: 0px\; border: 0px\; outline: 0px\; font-variant: inherit\; font-stretch: inherit\; vertical-align: baseline\; font-style: inherit\; color: rgb(51\, 51\, 51)\; letter-spacing: 0.5px\; text-transform: uppercase\;"><span style="font-size:14px\;"><span style="color:#000000\;"><span style="box-sizing: border-box\; margin: 0px\; padding: 0px\; border: 0px\; outline: 0px\; font-variant: inherit\; font-stretch: inherit\; line-height: inherit\; vertical-align: baseline\; font-family: inherit\; font-style: inherit\; font-weight: inherit\;">THE VILLAGE OF ELK RAPIDS IS SCHEDULED TO HAVE THE SPRING CLEAN-UP DAY ON SATURDAY MAY 28\, 2022. PLEASE PUT ITEMS OUT THE NIGHT BEFORE AS GREEN FOR LIFE INC. (FORMERLY AMERICAN WASTE) WILL BE OUT STARTING AT 7 A.M. TO COLLECT.</span></span></span></h4>\n\n<h4 style="box-sizing: border-box\; margin: 0px 0px 20px\; line-height: 1.5\; font-size: 20px\; overflow-wrap: break-word\; padding: 0px\; border: 0px\; outline: 0px\; font-variant: inherit\; font-stretch: inherit\; vertical-align: baseline\; font-style: inherit\; color: rgb(51\, 51\, 51)\; letter-spacing: 0.5px\; text-transform: uppercase\;"><span style="font-size:14px\;"><span style="color:#000000\;"><span style="box-sizing: border-box\; margin: 0px\; padding: 0px\; border: 0px\; outline: 0px\; font-variant: inherit\; font-stretch: inherit\; line-height: inherit\; vertical-align: baseline\; font-family: inherit\; font-style: inherit\; font-weight: inherit\;">HERE IS SOME INFORMATION FOR YOU TO KNOW:</span></span></span></h4>\n\n<ul style="box-sizing: border-box\; padding: 0px\; margin: 15px 0px 15px 20px\; overflow-wrap: break-word\; border: 0px\; outline: 0px\; font-variant: inherit\; font-stretch: inherit\; line-height: inherit\; vertical-align: baseline\; font-family: inherit\; font-style: inherit\; font-weight: inherit\;">\n	<li style="box-sizing: border-box\; margin: 0px\; padding: 0px\; border: 0px\; outline: 0px\; font-variant: inherit\; font-stretch: inherit\; line-height: inherit\; vertical-align: baseline\; font-family: inherit\; font-style: inherit\; font-weight: inherit\;">\n	<h4 style="box-sizing: border-box\; margin: 0px\; line-height: 1.5\; font-size: 20px\; overflow-wrap: break-word\; padding: 0px\; border: 0px\; outline: 0px\; font-variant: inherit\; font-stretch: inherit\; vertical-align: baseline\; font-style: inherit\; color: rgb(51\, 51\, 51)\; letter-spacing: 0.5px\; text-transform: uppercase\;"><span style="font-size:14px\;"><span style="color:#000000\;"><span style="box-sizing: border-box\; margin: 0px\; padding: 0px\; border: 0px\; outline: 0px\; font-variant: inherit\; font-stretch: inherit\; line-height: inherit\; vertical-align: baseline\; font-family: inherit\; font-style: inherit\; font-weight: inherit\;">THIS SERVICE IS FOR VILLAGE RESIDENTS ONLY.</span></span></span></h4>\n	</li>\n	<li style="box-sizing: border-box\; margin: 0px\; padding: 0px\; border: 0px\; outline: 0px\; font-variant: inherit\; font-stretch: inherit\; line-height: inherit\; vertical-align: baseline\; font-family: inherit\; font-style: inherit\; font-weight: inherit\;">\n	<h4 style="box-sizing: border-box\; margin: 0px\; line-height: 1.5\; font-size: 20px\; overflow-wrap: break-word\; padding: 0px\; border: 0px\; outline: 0px\; font-variant: inherit\; font-stretch: inherit\; vertical-align: baseline\; font-style: inherit\; color: rgb(51\, 51\, 51)\; letter-spacing: 0.5px\; text-transform: uppercase\;"><span style="font-size:14px\;"><span style="color:#000000\;"><span style="box-sizing: border-box\; margin: 0px\; padding: 0px\; border: 0px\; outline: 0px\; font-variant: inherit\; font-stretch: inherit\; line-height: inherit\; vertical-align: baseline\; font-family: inherit\; font-style: inherit\; font-weight: inherit\;">THIS IS A RESIDENTIAL SERVICE ONLY. EXCLUDED FROM PICK-UP ARE PRIVATE STREETS\, CONDOMINIUMS\, MOBILE HOME PARKS\, AND COMMERCIAL ENTERPRISES.</span></span></span></h4>\n	</li>\n	<li style="box-sizing: border-box\; margin: 0px\; padding: 0px\; border: 0px\; outline: 0px\; font-variant: inherit\; font-stretch: inherit\; line-height: inherit\; vertical-align: baseline\; font-family: inherit\; font-style: inherit\; font-weight: inherit\;">\n	<h4 style="box-sizing: border-box\; margin: 0px\; line-height: 1.5\; font-size: 20px\; overflow-wrap: break-word\; padding: 0px\; border: 0px\; outline: 0px\; font-variant: inherit\; font-stretch: inherit\; vertical-align: baseline\; font-style: inherit\; color: rgb(51\, 51\, 51)\; letter-spacing: 0.5px\; text-transform: uppercase\;"><span style="font-size:14px\;"><span style="color:#000000\;"><span style="box-sizing: border-box\; margin: 0px\; padding: 0px\; border: 0px\; outline: 0px\; font-variant: inherit\; font-stretch: inherit\; line-height: inherit\; vertical-align: baseline\; font-family: inherit\; font-style: inherit\; font-weight: inherit\;">ALL MATERIALS MUST BE STACKED NEATLY AND PLACED BEHIND THE CURB LINE NO LATER THAN 7:00 A.M. ON MAY 28.</span></span></span></h4>\n	</li>\n	<li style="box-sizing: border-box\; margin: 0px\; padding: 0px\; border: 0px\; outline: 0px\; font-variant: inherit\; font-stretch: inherit\; line-height: inherit\; vertical-align: baseline\; font-family: inherit\; font-style: inherit\; font-weight: inherit\;">\n	<h4 style="box-sizing: border-box\; margin: 0px\; line-height: 1.5\; font-size: 20px\; overflow-wrap: break-word\; padding: 0px\; border: 0px\; outline: 0px\; font-variant: inherit\; font-stretch: inherit\; vertical-align: baseline\; font-style: inherit\; color: rgb(51\, 51\, 51)\; letter-spacing: 0.5px\; text-transform: uppercase\;"><span style="font-size:14px\;"><span style="color:#000000\;"><span style="box-sizing: border-box\; margin: 0px\; padding: 0px\; border: 0px\; outline: 0px\; font-variant: inherit\; font-stretch: inherit\; line-height: inherit\; vertical-align: baseline\; font-family: inherit\; font-style: inherit\; font-weight: inherit\;">NO ALLEY PICK-UP.</span></span></span></h4>\n	</li>\n	<li style="box-sizing: border-box\; margin: 0px\; padding: 0px\; border: 0px\; outline: 0px\; font-variant: inherit\; font-stretch: inherit\; line-height: inherit\; vertical-align: baseline\; font-family: inherit\; font-style: inherit\; font-weight: inherit\;">\n	<h4 style="box-sizing: border-box\; margin: 0px\; line-height: 1.5\; font-size: 20px\; overflow-wrap: break-word\; padding: 0px\; border: 0px\; outline: 0px\; font-variant: inherit\; font-stretch: inherit\; vertical-align: baseline\; font-style: inherit\; color: rgb(51\, 51\, 51)\; letter-spacing: 0.5px\; text-transform: uppercase\;"><span style="font-size:14px\;"><span style="color:#000000\;"><span style="box-sizing: border-box\; margin: 0px\; padding: 0px\; border: 0px\; outline: 0px\; font-variant: inherit\; font-stretch: inherit\; line-height: inherit\; vertical-align: baseline\; font-family: inherit\; font-style: inherit\; font-weight: inherit\;">PLEASE DO NOT PLACE MATERIALS OUT EARLIER THAN MAY 26.</span></span></span></h4>\n	</li>\n	<li style="box-sizing: border-box\; margin: 0px\; padding: 0px\; border: 0px\; outline: 0px\; font-variant: inherit\; font-stretch: inherit\; line-height: inherit\; vertical-align: baseline\; font-family: inherit\; font-style: inherit\; font-weight: inherit\;">\n	<h4 style="box-sizing: border-box\; margin: 0px\; line-height: 1.5\; font-size: 20px\; overflow-wrap: break-word\; padding: 0px\; border: 0px\; outline: 0px\; font-variant: inherit\; font-stretch: inherit\; vertical-align: baseline\; font-style: inherit\; color: rgb(51\, 51\, 51)\; letter-spacing: 0.5px\; text-transform: uppercase\;"><span style="font-size:14px\;"><span style="color:#000000\;"><span style="box-sizing: border-box\; margin: 0px\; padding: 0px\; border: 0px\; outline: 0px\; font-variant: inherit\; font-stretch: inherit\; line-height: inherit\; vertical-align: baseline\; font-family: inherit\; font-style: inherit\; font-weight: inherit\;">NO HOUSEHOLD GARBAGE SHALL BE PLACED WITH SPRING CLEAN-UP REFUSE.</span></span></span></h4>\n	</li>\n	<li style="box-sizing: border-box\; margin: 0px\; padding: 0px\; border: 0px\; outline: 0px\; font-variant: inherit\; font-stretch: inherit\; line-height: inherit\; vertical-align: baseline\; font-family: inherit\; font-style: inherit\; font-weight: inherit\;">\n	<h4 style="box-sizing: border-box\; margin: 0px\; line-height: 1.5\; font-size: 20px\; overflow-wrap: break-word\; padding: 0px\; border: 0px\; outline: 0px\; font-variant: inherit\; font-stretch: inherit\; vertical-align: baseline\; font-style: inherit\; color: rgb(51\, 51\, 51)\; letter-spacing: 0.5px\; text-transform: uppercase\;"><span style="font-size:14px\;"><span style="color:#000000\;"><span style="box-sizing: border-box\; margin: 0px\; padding: 0px\; border: 0px\; outline: 0px\; font-variant: inherit\; font-stretch: inherit\; line-height: inherit\; vertical-align: baseline\; font-family: inherit\; font-style: inherit\; font-weight: inherit\;">BUILDING MATERIALS MUST BE NEATLY STACKED.</span></span></span></h4>\n	</li>\n	<li style="box-sizing: border-box\; margin: 0px\; padding: 0px\; border: 0px\; outline: 0px\; font-variant: inherit\; font-stretch: inherit\; line-height: inherit\; vertical-align: baseline\; font-family: inherit\; font-style: inherit\; font-weight: inherit\;">\n	<h4 style="box-sizing: border-box\; margin: 0px\; line-height: 1.5\; font-size: 20px\; overflow-wrap: break-word\; padding: 0px\; border: 0px\; outline: 0px\; font-variant: inherit\; font-stretch: inherit\; vertical-align: baseline\; font-style: inherit\; color: rgb(51\, 51\, 51)\; letter-spacing: 0.5px\; text-transform: uppercase\;"><span style="font-size:14px\;"><span style="color:#000000\;"><span style="box-sizing: border-box\; margin: 0px\; padding: 0px\; border: 0px\; outline: 0px\; font-variant: inherit\; font-stretch: inherit\; line-height: inherit\; vertical-align: baseline\; font-family: inherit\; font-style: inherit\; font-weight: inherit\;">WHITE GOODS WILL BE ACCEPTED. REFRIGERATION MUST HAVE CERTIFICATION ATTACHED VERIFYING REMOVAL OF REFRIGERANT BY A LICENSED VENDOR.</span></span></span></h4>\n	</li>\n	<li style="box-sizing: border-box\; margin: 0px\; padding: 0px\; border: 0px\; outline: 0px\; font-variant: inherit\; font-stretch: inherit\; line-height: inherit\; vertical-align: baseline\; font-family: inherit\; font-style: inherit\; font-weight: inherit\;">\n	<h4 style="box-sizing: border-box\; margin: 0px\; line-height: 1.5\; font-size: 20px\; overflow-wrap: break-word\; padding: 0px\; border: 0px\; outline: 0px\; font-variant: inherit\; font-stretch: inherit\; vertical-align: baseline\; font-style: inherit\; color: rgb(51\, 51\, 51)\; letter-spacing: 0.5px\; text-transform: uppercase\;"><span style="font-size:14px\;"><span style="color:#000000\;"><span style="box-sizing: border-box\; margin: 0px\; padding: 0px\; border: 0px\; outline: 0px\; font-variant: inherit\; font-stretch: inherit\; line-height: inherit\; vertical-align: baseline\; font-family: inherit\; font-style: inherit\; font-weight: inherit\;">REFRIGERATOR AND FREEZER DOORS MUST BE REMOVED.</span></span></span></h4>\n	</li>\n	<li style="box-sizing: border-box\; margin: 0px\; padding: 0px\; border: 0px\; outline: 0px\; font-variant: inherit\; font-stretch: inherit\; line-height: inherit\; vertical-align: baseline\; font-family: inherit\; font-style: inherit\; font-weight: inherit\;">\n	<h4 style="box-sizing: border-box\; margin: 0px\; line-height: 1.5\; font-size: 20px\; overflow-wrap: break-word\; padding: 0px\; border: 0px\; outline: 0px\; font-variant: inherit\; font-stretch: inherit\; vertical-align: baseline\; font-style: inherit\; color: rgb(51\, 51\, 51)\; letter-spacing: 0.5px\; text-transform: uppercase\;"><span style="font-size:14px\;"><span style="color:#000000\;"><span style="box-sizing: border-box\; margin: 0px\; padding: 0px\; border: 0px\; outline: 0px\; font-variant: inherit\; font-stretch: inherit\; line-height: inherit\; vertical-align: baseline\; font-family: inherit\; font-style: inherit\; font-weight: inherit\;">NOTHING HEAVIER THAN WHAT 2 INDIVIDUALS CAN PICKUP\, I.E.\, PIANO.</span></span></span></h4>\n	</li>\n</ul>\n\n<h4 style="box-sizing: border-box\; margin: 0px\; line-height: 1.5\; font-size: 20px\; overflow-wrap: break-word\; padding: 0px\; border: 0px\; outline: 0px\; font-variant: inherit\; font-stretch: inherit\; vertical-align: baseline\; font-style: inherit\; color: rgb(51\, 51\, 51)\; letter-spacing: 0.5px\; text-transform: uppercase\;"><span style="font-size:14px\;"><span style="color:#000000\;"><span style="box-sizing: border-box\; margin: 0px\; padding: 0px\; border: 0px\; outline: 0px\; font-variant: inherit\; font-stretch: inherit\; line-height: inherit\; vertical-align: baseline\; font-family: inherit\; font-style: inherit\; font-weight: inherit\;"><span style="box-sizing: border-box\; margin: 0px\; padding: 0px\; border: 0px\; outline: 0px\; font-variant: inherit\; font-stretch: inherit\; line-height: inherit\; vertical-align: baseline\; font-family: inherit\; font-style: inherit\; font-weight: inherit\; text-decoration-line: underline\;">EXCLUDED</span>&nbsp\;FROM CURB SIDE PICK UP: BATTERIES\, PAINT CANS\, ROCKS\, ASPHALT\, CONCRETE\, BRUSH\, YARD WASTE\, AND ALL HAZARDOUS WASTE SUCH AS CHEMICALS\, HERBICIDES\, AND INSECTICIDES. THESE MATERIALS WILL NOT BE PICKED UP AND IT WILL BE THE OWNER&rsquo\;S RESPONSIBILITY TO REMOVE THEM FROM THE STREET RIGHT OF WAY.</span></span></span></h4>\n</div>\n
LOCATION:
UID:e.2409.29561
SEQUENCE:3
DTSTAMP:20260420T202851Z
URL:https://business.elkrapidschamber.org/events/details/village-of-elk-rapids-spring-clean-up-day-29561
END:VEVENT

END:VCALENDAR
