BEGIN:VCALENDAR
VERSION:2.0
PRODID:-//ChamberMaster//Event Calendar 2.0//EN
METHOD:PUBLISH
X-PUBLISHED-TTL:P3D
REFRESH-INTERVAL:P3D
CALSCALE:GREGORIAN
BEGIN:VEVENT
DTSTART:20220606T110000Z
DTEND:20220606T200000Z
X-MICROSOFT-CDO-ALLDAYEVENT:FALSE
SUMMARY:Village of Elk Rapids Monthly Brush Pickup
DESCRIPTION:
X-ALT-DESC;FMTTYPE=text/html:
LOCATION:
UID:e.2409.30241
SEQUENCE:3
DTSTAMP:20260420T203126Z
URL:https://business.elkrapidschamber.org/events/details/village-of-elk-rapids-monthly-brush-pickup-06-06-2022-30241
END:VEVENT

END:VCALENDAR
