BEGIN:VCALENDAR
VERSION:2.0
PRODID:-//ChamberMaster//Event Calendar 2.0//EN
METHOD:PUBLISH
X-PUBLISHED-TTL:P3D
REFRESH-INTERVAL:P3D
CALSCALE:GREGORIAN
BEGIN:VEVENT
DTSTART:20241012T170000Z
DTEND:20241012T190000Z
X-MICROSOFT-CDO-ALLDAYEVENT:FALSE
SUMMARY:Village Market Fall Festival
DESCRIPTION:Pumpkin Painting Contest\, Bounce House\, Donuts & Cider\, plus....
X-ALT-DESC;FMTTYPE=text/html:Pumpkin Painting Contest\, Bounce House\, Donuts &amp\; Cider\, plus....
LOCATION:250 Ames Street Elk Rapids\, MI 49629
UID:e.2409.45511
SEQUENCE:3
DTSTAMP:20260424T201538Z
URL:https://business.elkrapidschamber.org/events/details/village-market-fall-festival-45511
END:VEVENT

END:VCALENDAR
