BEGIN:VCALENDAR
VERSION:2.0
PRODID:-//ChamberMaster//Event Calendar 2.0//EN
METHOD:PUBLISH
X-PUBLISHED-TTL:P3D
REFRESH-INTERVAL:P3D
CALSCALE:GREGORIAN
BEGIN:VEVENT
DTSTART:20231208T200000Z
DTEND:20231209T010000Z
X-MICROSOFT-CDO-ALLDAYEVENT:FALSE
SUMMARY:Ugly Sweater Day at Townline Ciderworks
DESCRIPTION:Townline is full of Christmas spirit this year. And anyone who knows Kim knows she has the most Christmas spirit of them all! Stop in and show her your ugly holiday sweater this Friday and get a $1 off cider pours.\n\nTownline Ciderworks 11595 U.S. 31 S.\, Williamsburg (231) 883-5330
X-ALT-DESC;FMTTYPE=text/html:<p align="center" style="box-sizing: border-box\; margin: 0px\; padding: 0px\; font-family: Arial\, Verdana\, Helvetica\, sans-serif\; font-size: 12px\; background-color: rgb(192\, 62\, 48)\; text-align: center\;"><span style="box-sizing: border-box\; font-size: 15px\; color: rgb(255\, 255\, 255)\;">Townline is full of Christmas spirit this year. And anyone who knows Kim knows she has the most Christmas spirit of them all! Stop in and show her your ugly holiday sweater this Friday and get a $1 off cider pours.</span></p>\n\n<p align="center" style="box-sizing: border-box\; margin: 0px\; padding: 0px\; font-family: Arial\, Verdana\, Helvetica\, sans-serif\; font-size: 12px\; background-color: rgb(192\, 62\, 48)\; text-align: center\;"><span style="box-sizing: border-box\; font-size: 15px\; color: rgb(255\, 255\, 255)\;">Townline Ciderworks 11595 U.S. 31 S.\, Williamsburg (231) 883-5330</span></p>\n
LOCATION:
UID:e.2409.40307
SEQUENCE:3
DTSTAMP:20260419T180031Z
URL:https://business.elkrapidschamber.org/events/details/ugly-sweater-day-at-townline-ciderworks-40307
END:VEVENT

END:VCALENDAR
