BEGIN:VCALENDAR
VERSION:2.0
PRODID:-//ChamberMaster//Event Calendar 2.0//EN
METHOD:PUBLISH
X-PUBLISHED-TTL:P3D
REFRESH-INTERVAL:P3D
CALSCALE:GREGORIAN
BEGIN:VEVENT
DTSTART:20200811T133000Z
DTEND:20200811T203000Z
X-MICROSOFT-CDO-ALLDAYEVENT:FALSE
SUMMARY:Twisted Fish Socially Distanced Plein Air Painting Workshop
DESCRIPTION:The unstoppable\, soft pastel artist\, Louise Pond returns to Twisted Fish having created an outdoor workshop for Plein Air painters. Using the medium of your choice\, students will find a spot in the Gallery's sculpture gardens to complete their canvases. The workshop is limited to 8 students. Bring our own lunch/snacks. Coffee & cold drinks will be available. Masks are required for group discussion. $185/student. Contact the Gallery for supply list & registration. #231 264 0123.
X-ALT-DESC;FMTTYPE=text/html:<div style="box-sizing: border-box\; font-family: Arial\, Verdana\, Helvetica\, sans-serif\; font-size: 14px\; background-color: rgb(208\, 236\, 242)\;"><span style="color: rgb(29\, 33\, 41)\; font-family: Helvetica\, Arial\, sans-serif\; font-size: 14px\; white-space: pre-wrap\; background-color: rgb(255\, 255\, 255)\;">The unstoppable\, soft pastel artist\, Louise Pond returns to Twisted Fish having created an outdoor workshop for Plein Air painters. Using the medium of your choice\, students will find a spot in the Gallery&#39\;s sculpture gardens to complete their canvases. The workshop is limited to 8 students. Bring our own lunch/snacks. Coffee &amp\; cold drinks will be available. Masks are required for group discussion. $185/student. Contact the Gallery for supply list &amp\; registration. #231 264 0123.</span></div>\n
LOCATION:Twisted Fish Gallery 10443 S. Bayshore Dr. Elk Rapids MI 49629
UID:e.2409.24049
SEQUENCE:3
DTSTAMP:20260422T055648Z
URL:https://business.elkrapidschamber.org/events/details/twisted-fish-socially-distanced-plein-air-painting-workshop-24049
END:VEVENT

END:VCALENDAR
