BEGIN:VCALENDAR
VERSION:2.0
PRODID:-//ChamberMaster//Event Calendar 2.0//EN
METHOD:PUBLISH
X-PUBLISHED-TTL:P3D
REFRESH-INTERVAL:P3D
CALSCALE:GREGORIAN
BEGIN:VEVENT
DTSTART:20231206T230000Z
DTEND:20231207T010000Z
X-MICROSOFT-CDO-ALLDAYEVENT:FALSE
SUMMARY:Twinkle Light Dinner at Castle Farms
DESCRIPTION:He's making a list and checking i twice....\n\nBut you are invited to join us whether you are naughty or nice!\n\n\n\nJoin us for a Castle Farms Twinkle Light Dinner in style with friends\, family\, or someone new! Enjoy an enchanting evening listening to classic Christmas carols by musicians Rhett and Joh Live.  Begin the evening with..Read Morehttps://castlefarms.com/events/twinkle-light-dinner-4/
X-ALT-DESC;FMTTYPE=text/html:He&#39\;s making a list and checking i twice....<br />\nBut you are invited to join us whether you are naughty or nice!<br />\n<br />\nJoin us for a Castle Farms Twinkle Light Dinner in style with friends\, family\, or someone new! Enjoy an enchanting evening listening to classic Christmas carols by musicians Rhett and Joh Live.&nbsp\; Begin the evening with..Read More<a href="https://castlefarms.com/events/twinkle-light-dinner-4/">https://castlefarms.com/events/twinkle-light-dinner-4/</a>
LOCATION:Castle Farms 5052 M-66 Charlevoix
UID:e.2409.40276
SEQUENCE:3
DTSTAMP:20260419T175535Z
URL:https://business.elkrapidschamber.org/events/details/twinkle-light-dinner-at-castle-farms-40276
END:VEVENT

END:VCALENDAR
