BEGIN:VCALENDAR
VERSION:2.0
PRODID:-//ChamberMaster//Event Calendar 2.0//EN
METHOD:PUBLISH
X-PUBLISHED-TTL:P3D
REFRESH-INTERVAL:P3D
CALSCALE:GREGORIAN
BEGIN:VEVENT
DTSTART:20191026T190000Z
DTEND:20191026T210000Z
X-MICROSOFT-CDO-ALLDAYEVENT:FALSE
SUMMARY:Trunk or Treat at the Williamsburg United Methodist Church.
DESCRIPTION:Bring your kids or grandkids for an enjoyable\, non horror filled afternoon.\n\nWe'll have hot dogs\, chips and drinks  \n\nAlong with trick or treating and games!\n\n\n\n***It is all free! And it's rain or shine   \n\nif it is raining it will be held inside.
X-ALT-DESC;FMTTYPE=text/html:Bring your kids or grandkids for an enjoyable\, non horror filled afternoon.<br style="color: rgb(29\, 33\, 41)\; font-family: Helvetica\, Arial\, sans-serif\; font-size: 14px\; font-variant-numeric: normal\; font-variant-east-asian: normal\;" />\n<span style="color: rgb(29\, 33\, 41)\; font-family: Helvetica\, Arial\, sans-serif\; font-size: 14px\; font-variant-numeric: normal\; font-variant-east-asian: normal\;">We&rsquo\;ll have hot dogs\, chips and drinks &hellip\;</span><br style="color: rgb(29\, 33\, 41)\; font-family: Helvetica\, Arial\, sans-serif\; font-size: 14px\; font-variant-numeric: normal\; font-variant-east-asian: normal\;" />\n<span style="color: rgb(29\, 33\, 41)\; font-family: Helvetica\, Arial\, sans-serif\; font-size: 14px\; font-variant-numeric: normal\; font-variant-east-asian: normal\;">Along with trick or treating and games!</span><br style="color: rgb(29\, 33\, 41)\; font-family: Helvetica\, Arial\, sans-serif\; font-size: 14px\; font-variant-numeric: normal\; font-variant-east-asian: normal\;" />\n<br style="color: rgb(29\, 33\, 41)\; font-family: Helvetica\, Arial\, sans-serif\; font-size: 14px\; font-variant-numeric: normal\; font-variant-east-asian: normal\;" />\n<span style="color: rgb(29\, 33\, 41)\; font-family: Helvetica\, Arial\, sans-serif\; font-size: 14px\; font-variant-numeric: normal\; font-variant-east-asian: normal\;">***It is all free! And it&rsquo\;s rain or shine &hellip\; </span><br style="color: rgb(29\, 33\, 41)\; font-family: Helvetica\, Arial\, sans-serif\; font-size: 14px\; font-variant-numeric: normal\; font-variant-east-asian: normal\;" />\n<span style="color: rgb(29\, 33\, 41)\; font-family: Helvetica\, Arial\, sans-serif\; font-size: 14px\; font-variant-numeric: normal\; font-variant-east-asian: normal\;">if it is raining it will be held inside.</span>
LOCATION:Williamsburg United Methodist Church 5750 Williamsburg Rd\, Williamsburg\, MI 49690
UID:e.2409.21976
SEQUENCE:3
DTSTAMP:20260426T002715Z
URL:https://business.elkrapidschamber.org/events/details/trunk-or-treat-at-the-williamsburg-united-methodist-church-21976
END:VEVENT

END:VCALENDAR
