BEGIN:VCALENDAR
VERSION:2.0
PRODID:-//ChamberMaster//Event Calendar 2.0//EN
METHOD:PUBLISH
X-PUBLISHED-TTL:P3D
REFRESH-INTERVAL:P3D
CALSCALE:GREGORIAN
BEGIN:VEVENT
DTSTART:20231231T230000Z
DTEND:20240101T010000Z
X-MICROSOFT-CDO-ALLDAYEVENT:FALSE
SUMMARY:Trivia SUNDAY FUNDAY at Foundry Craft Grillery
DESCRIPTION:
X-ALT-DESC;FMTTYPE=text/html:
LOCATION:151 River Street Elk Rapids
UID:e.2409.42748
SEQUENCE:3
DTSTAMP:20260419T180048Z
URL:https://business.elkrapidschamber.org/events/details/trivia-sunday-funday-at-foundry-craft-grillery-12-31-2023-42748
END:VEVENT

END:VCALENDAR
