BEGIN:VCALENDAR
VERSION:2.0
PRODID:-//ChamberMaster//Event Calendar 2.0//EN
METHOD:PUBLISH
X-PUBLISHED-TTL:P3D
REFRESH-INTERVAL:P3D
CALSCALE:GREGORIAN
BEGIN:VEVENT
DTSTART:20240317T220000Z
DTEND:20240318T000000Z
X-MICROSOFT-CDO-ALLDAYEVENT:FALSE
SUMMARY:Trivia SUNDAY FUNDAY at Foundry Craft Grillery
DESCRIPTION:
X-ALT-DESC;FMTTYPE=text/html:
LOCATION:151 River Street Elk Rapids
UID:e.2409.42759
SEQUENCE:3
DTSTAMP:20260419T133527Z
URL:https://business.elkrapidschamber.org/events/details/trivia-sunday-funday-at-foundry-craft-grillery-03-17-2024-42759
END:VEVENT

END:VCALENDAR
