BEGIN:VCALENDAR
VERSION:2.0
PRODID:-//ChamberMaster//Event Calendar 2.0//EN
METHOD:PUBLISH
X-PUBLISHED-TTL:P3D
REFRESH-INTERVAL:P3D
CALSCALE:GREGORIAN
BEGIN:VEVENT
DTSTART:20190613T230000Z
DTEND:20190614T020000Z
X-MICROSOFT-CDO-ALLDAYEVENT:FALSE
SUMMARY:Trivia NIght at the Pub
DESCRIPTION:Who doesn't love trivia and beer? Gather your team and join us for the monthly trivia night at the pub! We'll have a variety of categories to test your knowledge and winners will receive a Short's gift card.
X-ALT-DESC;FMTTYPE=text/html:<span style="display: inline !important\; float: none\; background-color: transparent\; color: rgb(29\, 33\, 41)\; font-family: Helvetica\,Arial\,sans-serif\; font-size: 14px\; font-style: normal\; font-variant: normal\; font-weight: 400\; letter-spacing: normal\; orphans: 2\; text-align: left\; text-decoration: none\; text-indent: 0px\; text-transform: none\; -webkit-text-stroke-width: 0px\; white-space: pre-wrap\; word-spacing: 0px\;">Who doesn&rsquo\;t love trivia and beer? Gather your team and join us for the monthly trivia night at the pub! We&rsquo\;ll have a variety of categories to test your knowledge and winners will receive a Short&rsquo\;s gift card.</span>
LOCATION:Short's Brew Pub
UID:e.2409.17992
SEQUENCE:3
DTSTAMP:20260425T010708Z
URL:https://business.elkrapidschamber.org/events/details/trivia-night-at-the-pub-17992
END:VEVENT

END:VCALENDAR
