BEGIN:VCALENDAR
VERSION:2.0
PRODID:-//ChamberMaster//Event Calendar 2.0//EN
METHOD:PUBLISH
X-PUBLISHED-TTL:P3D
REFRESH-INTERVAL:P3D
CALSCALE:GREGORIAN
BEGIN:VEVENT
DTSTART:20230525T213000Z
DTEND:20230525T233000Z
X-MICROSOFT-CDO-ALLDAYEVENT:FALSE
SUMMARY:Traverse City Horse Show Joint Meeting with ER Council and Townships
DESCRIPTION:
X-ALT-DESC;FMTTYPE=text/html:
LOCATION:
UID:e.2409.37800
SEQUENCE:3
DTSTAMP:20260420T035453Z
URL:https://business.elkrapidschamber.org/events/details/traverse-city-horse-show-joint-meeting-with-er-council-and-townships-37800
END:VEVENT

END:VCALENDAR
