BEGIN:VCALENDAR
VERSION:2.0
PRODID:-//ChamberMaster//Event Calendar 2.0//EN
METHOD:PUBLISH
X-PUBLISHED-TTL:P3D
REFRESH-INTERVAL:P3D
CALSCALE:GREGORIAN
BEGIN:VEVENT
DTSTART:20190916T210000Z
DTEND:20190916T230000Z
X-MICROSOFT-CDO-ALLDAYEVENT:FALSE
SUMMARY:Trail Input Session
DESCRIPTION:Meeting to gather input on non-motorized trail route options specifically within the village.  The route will eventually link to the Traaverse City-to-Charlevois trail\, but is limited to village boundaries in thes regard.  Please lend your observations\, experience\, and ideas for optimal routing\, including opportunities and constraints.  Written comment may be submitted to info@traversecitytocharlevoixtrail.org.
X-ALT-DESC;FMTTYPE=text/html:Meeting to gather input on non-motorized trail route options specifically within the village.&nbsp\; The route will eventually link to the Traaverse City-to-Charlevois trail\, but is limited to village boundaries in thes regard.&nbsp\; Please lend your observations\, experience\, and ideas for optimal routing\, including opportunities and constraints.&nbsp\; Written comment may be submitted to info@traversecitytocharlevoixtrail.org.<br />\n&nbsp\;
LOCATION:Elk Rapids Government Center 315 Bridge Street Elk Rapids\, MI
UID:e.2409.21823
SEQUENCE:3
DTSTAMP:20260423T000856Z
URL:https://business.elkrapidschamber.org/events/details/trail-input-session-21823
END:VEVENT

END:VCALENDAR
