BEGIN:VCALENDAR
VERSION:2.0
PRODID:-//ChamberMaster//Event Calendar 2.0//EN
METHOD:PUBLISH
X-PUBLISHED-TTL:P3D
REFRESH-INTERVAL:P3D
CALSCALE:GREGORIAN
BEGIN:VEVENT
DTSTART:20190920T140000Z
DTEND:20190920T160000Z
X-MICROSOFT-CDO-ALLDAYEVENT:FALSE
SUMMARY:Trail Building at Maplehurst
DESCRIPTION:Volunteers will take part in all tasks required to complete an estimated 6 miles of sustainsable\, multi-use trails on the newly protected property.
X-ALT-DESC;FMTTYPE=text/html:Volunteers will take part in all tasks required to complete an estimated 6 miles of sustainsable\, multi-use trails on the newly protected property.
LOCATION:
UID:e.2409.21818
SEQUENCE:3
DTSTAMP:20260424T003921Z
URL:https://business.elkrapidschamber.org/events/details/trail-building-at-maplehurst-21818
END:VEVENT

END:VCALENDAR
