BEGIN:VCALENDAR
VERSION:2.0
PRODID:-//ChamberMaster//Event Calendar 2.0//EN
METHOD:PUBLISH
X-PUBLISHED-TTL:P3D
REFRESH-INTERVAL:P3D
CALSCALE:GREGORIAN
BEGIN:VEVENT
DTSTART:20200804T230000Z
DTEND:20200805T010000Z
X-MICROSOFT-CDO-ALLDAYEVENT:FALSE
SUMMARY:Torch Lake Protection Alliance Zoom Meeting
DESCRIPTION:Details of the meeting were provided in the Summer Newsletter and in the mailing which included the voting ballots. Make sure you attend. We regret having to cancel the "Taste of Torch" activity\, but we have to consider the safety of our members.\nAgenda for the Membership Meeting\n\nTLPA Agenda Annual Meeting\n\nAugust 4th\, 2020\n\n7:10P Call To Order\n\nIntroduction: Barb C.\n\n- Welcome\n\n- Establishment of Quorum\n\n- Board Introductions\n\n- Review Agenda\n\nAdministrative Items:\n\nApproval of Minutes/2019 Annual Meeting Bob M.\n\nNomination/Election Results  Board Members: Bob M.\n\nRe-Elected Directors:\n\nBruce Halteen\n\nBob Milliron\n\nNorm Neuenschwander\n\nNew Directors:\n\nTom Joseph\n\nDave Nussdorfer\n\nRick Welsh\n\nTreasurer's Report Norm N.\n\nReview of TLPA Actions\n\n(Since August 2019) Brad G.\n\nSheriff's Report
X-ALT-DESC;FMTTYPE=text/html:<span style="color: rgb(29\, 33\, 41)\; font-family: Helvetica\, Arial\, sans-serif\; font-size: 14px\; white-space: pre-wrap\; background-color: rgb(255\, 255\, 255)\;">Details of the meeting were provided in the Summer Newsletter and in the mailing which included the voting ballots. Make sure you attend. We regret having to cancel the &quot\;Taste of Torch&quot\; activity\, but we have to consider the safety of our members.</span>\n<p style="margin: 0px 0px 6px\; font-family: Helvetica\, Arial\, sans-serif\; color: rgb(29\, 33\, 41)\; font-size: 14px\; background-color: rgb(255\, 255\, 255)\;">Agenda for the Membership Meeting</p>\n\n<p style="margin: 6px 0px\; font-family: Helvetica\, Arial\, sans-serif\; color: rgb(29\, 33\, 41)\; font-size: 14px\; background-color: rgb(255\, 255\, 255)\;">TLPA Agenda Annual Meeting<br />\nAugust 4th\, 2020</p>\n\n<p style="margin: 6px 0px\; font-family: Helvetica\, Arial\, sans-serif\; color: rgb(29\, 33\, 41)\; font-size: 14px\; background-color: rgb(255\, 255\, 255)\;">7:10P Call To Order<br />\nIntroduction: Barb C.<br />\n- Welcome<br />\n- Establishment of Quorum<br />\n- Board Introductions<br />\n- Review Agenda</p>\n\n<p style="margin: 6px 0px\; font-family: Helvetica\, Arial\, sans-serif\; color: rgb(29\, 33\, 41)\; font-size: 14px\; background-color: rgb(255\, 255\, 255)\;">Administrative Items:<br />\nApproval of Minutes/2019 Annual Meeting Bob M.<br />\nNomination/Election Results&ndash\; Board Members: Bob M.<br />\nRe-Elected Directors:<br />\nBruce Halteen<br />\nBob Milliron<br />\nNorm Neuenschwander<br />\nNew Directors:<br />\nTom Joseph<br />\nDave Nussdorfer<br />\nRick Welsh</p>\n\n<p style="margin: 6px 0px\; font-family: Helvetica\, Arial\, sans-serif\; color: rgb(29\, 33\, 41)\; font-size: 14px\; background-color: rgb(255\, 255\, 255)\;">Treasurer&rsquo\;s Report Norm N.</p>\n\n<p style="margin: 6px 0px\; font-family: Helvetica\, Arial\, sans-serif\; color: rgb(29\, 33\, 41)\; font-size: 14px\; background-color: rgb(255\, 255\, 255)\;">Review of TLPA Actions<br />\n(Since August 2019) Brad G.</p>\n\n<p style="margin: 6px 0px 0px\; display: inline\; font-family: Helvetica\, Arial\, sans-serif\; color: rgb(29\, 33\, 41)\; font-size: 14px\; background-color: rgb(255\, 255\, 255)\;">Sheriff&#39\;s Report</p>\n
LOCATION:
UID:e.2409.24048
SEQUENCE:3
DTSTAMP:20260422T055827Z
URL:https://business.elkrapidschamber.org/events/details/torch-lake-protection-alliance-zoom-meeting-24048
END:VEVENT

END:VCALENDAR
