BEGIN:VCALENDAR
VERSION:2.0
PRODID:-//ChamberMaster//Event Calendar 2.0//EN
METHOD:PUBLISH
X-PUBLISHED-TTL:P3D
REFRESH-INTERVAL:P3D
CALSCALE:GREGORIAN
BEGIN:VEVENT
DTSTART:20240102T150000Z
DTEND:20240102T170000Z
X-MICROSOFT-CDO-ALLDAYEVENT:FALSE
SUMMARY:Torch Area Artisan Guild (TAAG)
DESCRIPTION:Torch Area Artisan Guild (TAAG): TUESDAYS\, 10am-12pm. Creating art and contributing to the community for over 40 years. For more info\, email taartisansguild@gmail.com  Sponsored by Alden District Library and held at Helena Township Community Center\, 8751 Helena Rd\, Alden\, 231-331-4318.
X-ALT-DESC;FMTTYPE=text/html:<span style="box-sizing: border-box\; font-weight: bolder\; color: rgb(44\, 54\, 58)\; font-family: Verdana\, Geneva\, sans-serif\; font-size: 13.3333px\; background-color: rgb(255\, 255\, 255)\;">Torch Area Artisan Guild (TAAG):&nbsp\;</span><span style="color: rgb(44\, 54\, 58)\; font-family: Verdana\, Geneva\, sans-serif\; font-size: 13.3333px\; background-color: rgb(255\, 255\, 255)\;">TUESDAYS\, 10am-12pm. Creating art and contributing to the community for over 40 years. For more info\, email&nbsp\;</span><a href="mailto:taartisansguild@gmail.com" rel="noreferrer" style="box-sizing: border-box\; color: rgb(0\, 172\, 255)\; text-decoration-line: none\; background-color: rgb(255\, 255\, 255)\; font-family: Verdana\, Geneva\, sans-serif\; font-size: 13.3333px\;">taartisansguild@gmail.com</a><span style="color: rgb(44\, 54\, 58)\; font-family: Verdana\, Geneva\, sans-serif\; font-size: 13.3333px\; background-color: rgb(255\, 255\, 255)\;">&nbsp\;&nbsp\;Sponsored by Alden District Library and held at Helena Township Community Center\, 8751 Helena Rd\, Alden\, 231-331-4318.</span>
LOCATION:
UID:e.2409.41125
SEQUENCE:3
DTSTAMP:20260419T121433Z
URL:https://business.elkrapidschamber.org/events/details/torch-area-artisan-guild-taag-41125
END:VEVENT

END:VCALENDAR
