BEGIN:VCALENDAR
VERSION:2.0
PRODID:-//ChamberMaster//Event Calendar 2.0//EN
METHOD:PUBLISH
X-PUBLISHED-TTL:P3D
REFRESH-INTERVAL:P3D
CALSCALE:GREGORIAN
BEGIN:VEVENT
DTSTART:20191204T160000Z
DTEND:20191204T170000Z
X-MICROSOFT-CDO-ALLDAYEVENT:FALSE
SUMMARY:Tomato Cage Snowman at Pine Hill
DESCRIPTION:New this year! Make this adorable snowman to add to your winter d cor. Wednesday December 4th or Saturday December 7th @ 11am. This class is $45. Please call to register 231-599-2824
X-ALT-DESC;FMTTYPE=text/html:<div style="color: rgb(255\, 255\, 255)\; font-family: Verdana\, Geneva\, sans-serif\; font-size: 14px\; background-color: rgb(211\, 9\, 28)\;"><span style="color: rgb(255\, 255\, 255)\; font-family: Verdana\, Geneva\, sans-serif\; font-size: 14px\; background-color: rgb(3\, 41\, 85)\;">New this year! Make this adorable snowman to add to your winter d&eacute\;cor. Wednesday December 4th or Saturday December 7th @ 11am. This class is $45. Please call to register 231-599-2824</span></div>\n
LOCATION:Pine Hill Nursery Torch Lake Location
UID:e.2409.22020
SEQUENCE:3
DTSTAMP:20260419T140626Z
URL:https://business.elkrapidschamber.org/events/details/tomato-cage-snowman-at-pine-hill-22020
END:VEVENT

END:VCALENDAR
