BEGIN:VCALENDAR
VERSION:2.0
PRODID:-//ChamberMaster//Event Calendar 2.0//EN
METHOD:PUBLISH
X-PUBLISHED-TTL:P3D
REFRESH-INTERVAL:P3D
CALSCALE:GREGORIAN
BEGIN:VEVENT
DTSTART:20230519T150000Z
DTEND:20230519T210000Z
X-MICROSOFT-CDO-ALLDAYEVENT:FALSE
SUMMARY:Tiny Traveling Boutique OPENING DAY!
DESCRIPTION:
X-ALT-DESC;FMTTYPE=text/html:
LOCATION:703 Ames Street Elk Rapids 49629
UID:e.2409.36398
SEQUENCE:3
DTSTAMP:20260420T034749Z
URL:https://business.elkrapidschamber.org/events/details/tiny-traveling-boutique-opening-day-36398
END:VEVENT

END:VCALENDAR
