BEGIN:VCALENDAR
VERSION:2.0
PRODID:-//ChamberMaster//Event Calendar 2.0//EN
METHOD:PUBLISH
X-PUBLISHED-TTL:P3D
REFRESH-INTERVAL:P3D
CALSCALE:GREGORIAN
BEGIN:VEVENT
DTSTART:20191212T150000Z
DTEND:20191212T180000Z
X-MICROSOFT-CDO-ALLDAYEVENT:FALSE
SUMMARY:Tinker Tailor Holiday Studio Openhouse
DESCRIPTION:Shop handcrafted apparel and accessories while sharing friendship and refreshments.
X-ALT-DESC;FMTTYPE=text/html:<span style="color: rgb(29\, 33\, 41)\; font-family: Helvetica\, Arial\, sans-serif\; font-size: 14px\; font-style: normal\; font-variant-ligatures: normal\; font-variant-caps: normal\; font-weight: 400\; letter-spacing: normal\; orphans: 2\; text-align: start\; text-indent: 0px\; text-transform: none\; white-space: pre-wrap\; widows: 2\; word-spacing: 0px\; -webkit-text-stroke-width: 0px\; background-color: rgb(255\, 255\, 255)\; text-decoration-style: initial\; text-decoration-color: initial\; display: inline !important\; float: none\;">Shop handcrafted apparel and accessories while sharing friendship and refreshments.</span>
LOCATION:Tinker Tailor 243 Brand Street Elk Rapids
UID:e.2409.22320
SEQUENCE:3
DTSTAMP:20260419T152936Z
URL:https://business.elkrapidschamber.org/events/details/tinker-tailor-holiday-studio-openhouse-22320
END:VEVENT

END:VCALENDAR
