BEGIN:VCALENDAR
VERSION:2.0
PRODID:-//ChamberMaster//Event Calendar 2.0//EN
METHOD:PUBLISH
X-PUBLISHED-TTL:P3D
REFRESH-INTERVAL:P3D
CALSCALE:GREGORIAN
BEGIN:VEVENT
DTSTART:20230616T230000Z
DTEND:20230617T010000Z
X-MICROSOFT-CDO-ALLDAYEVENT:FALSE
SUMMARY:Three Generations of Stargardts at Music House Museum
DESCRIPTION:The Music House Museum is proud to welcome three generations of Stargardts in concert on June 16 at 7:00PM. Pianist Steve Stargardt\, his daughter\, Lori Jayne Dear (Stargardt) on flute and grandson Jack Stargardt on bass will perform selections from the Bolling Suite\, the American Songbook and contemporary artists.
X-ALT-DESC;FMTTYPE=text/html:<span style="color: rgb(5\, 5\, 5)\; font-family: &quot\;Segoe UI Historic&quot\;\, &quot\;Segoe UI&quot\;\, Helvetica\, Arial\, sans-serif\; font-size: 15px\; background-color: rgb(255\, 255\, 255)\;">The Music House Museum is proud to welcome three generations of Stargardts in concert on June 16 at 7:00PM. Pianist Steve Stargardt\, his daughter\, Lori Jayne Dear (Stargardt) on flute and grandson Jack Stargardt on bass will perform selections from the Bolling Suite\, the American Songbook and contemporary artists.</span>
LOCATION:7377 U.S. 31 North Williamsburg
UID:e.2409.37827
SEQUENCE:3
DTSTAMP:20260420T011547Z
URL:https://business.elkrapidschamber.org/events/details/three-generations-of-stargardts-at-music-house-museum-37827
END:VEVENT

END:VCALENDAR
