BEGIN:VCALENDAR
VERSION:2.0
PRODID:-//ChamberMaster//Event Calendar 2.0//EN
METHOD:PUBLISH
X-PUBLISHED-TTL:P3D
REFRESH-INTERVAL:P3D
CALSCALE:GREGORIAN
BEGIN:VEVENT
DTSTART:20191230T000000Z
DTEND:20191230T013000Z
X-MICROSOFT-CDO-ALLDAYEVENT:FALSE
SUMMARY:The Viridian Strings in Concert @ Music House Museum
DESCRIPTION:The Music House is excited to feature a concert with the Viridian Strings featuring Ivan Suminski and Kyle Stachnik. These Traverse City grown musicians came together earlier last December to perform while they were home and we are very happy to have them here again this year. The program is planned to include masterpieces by Kodaly\, Ravel and Beehtoven. We look forward to having you join us for this amazing concert.
X-ALT-DESC;FMTTYPE=text/html:<span style="color: rgb(29\, 33\, 41)\; font-family: Helvetica\, Arial\, sans-serif\; font-size: 14px\; white-space: pre-wrap\; background-color: rgb(255\, 255\, 255)\;">The Music House is excited to feature a concert with the Viridian Strings featuring Ivan Suminski and Kyle Stachnik. These Traverse City grown musicians came together earlier last December to perform while they were home and we are very happy to have them here again this year. The program is planned to include masterpieces by Kodaly\, Ravel and Beehtoven. We look forward to having you join us for this amazing concert. </span>
LOCATION:Music House Museum 7377 US 31 Williamsburg MI 49690
UID:e.2409.22426
SEQUENCE:3
DTSTAMP:20260419T143015Z
URL:https://business.elkrapidschamber.org/events/details/the-viridian-strings-in-concert-music-house-museum-22426
END:VEVENT

END:VCALENDAR
