BEGIN:VCALENDAR
VERSION:2.0
PRODID:-//ChamberMaster//Event Calendar 2.0//EN
METHOD:PUBLISH
X-PUBLISHED-TTL:P3D
REFRESH-INTERVAL:P3D
CALSCALE:GREGORIAN
BEGIN:VEVENT
DTSTART:20201015T220000Z
DTEND:20201015T230000Z
X-MICROSOFT-CDO-ALLDAYEVENT:FALSE
SUMMARY:The Night Gallery
DESCRIPTION:In his "Night Gallery" Jim Ribby uses short poems by various authors\, including the works of Edgar Allan Poe\, to draw people into longer macabre poetic ballads. As in a guided tour of an art gallery people are taken from one haunting painting to the next. Please join us in a literary journey into visions of the supernatural. We will offer mulled cider and donuts around a socially distanced bonfire. Dress warm and bring a seat. Ages 13 and up.
X-ALT-DESC;FMTTYPE=text/html:In his &quot\;Night Gallery&rdquo\; Jim Ribby uses short poems by various authors\, including the works of Edgar Allan Poe\, to draw people into longer macabre poetic ballads. As in a guided tour of an art gallery people are taken from one haunting painting to the next. Please join us in a literary journey into visions of the supernatural. We will offer mulled cider and donuts around a socially distanced bonfire. Dress warm and bring a seat. Ages 13 and up.
LOCATION:Elk Rapids District Library Grounds
UID:e.2409.24117
SEQUENCE:3
DTSTAMP:20260422T025129Z
URL:https://business.elkrapidschamber.org/events/details/the-night-gallery-24117
END:VEVENT

END:VCALENDAR
