BEGIN:VCALENDAR
VERSION:2.0
PRODID:-//ChamberMaster//Event Calendar 2.0//EN
METHOD:PUBLISH
X-PUBLISHED-TTL:P3D
REFRESH-INTERVAL:P3D
CALSCALE:GREGORIAN
BEGIN:VEVENT
DTSTART:20220617T213000Z
DTEND:20220618T013000Z
X-MICROSOFT-CDO-ALLDAYEVENT:FALSE
SUMMARY:The Music House Museum present "Speedy"
DESCRIPTION:The Music House Museum is proud to present the Harold Lloyd Silent Movie:\n\n"Speedy"\n\nAccompanied by Interlochen Arts Academy Staff Pianist\, Steve Larson at both 5:30 pm and 7:30 pm on Friday\, June 17\, 2022\n\nVisit musichouse.org for more information and to purchase tickets
X-ALT-DESC;FMTTYPE=text/html:The Music House Museum is proud to present the Harold Lloyd Silent Movie:<br />\n&ldquo\;Speedy&rdquo\;<br />\nAccompanied by Interlochen Arts Academy Staff Pianist\, Steve Larson at both 5:30 pm and 7:30 pm on Friday\, June 17\, 2022<br />\nVisit musichouse.org for more information and to purchase tickets
LOCATION:
UID:e.2409.30465
SEQUENCE:3
DTSTAMP:20260420T202836Z
URL:https://business.elkrapidschamber.org/events/details/the-music-house-museum-present-speedy-30465
END:VEVENT

END:VCALENDAR
